﻿BEGIN:VCALENDAR
VERSION:2.0
PRODID:-//IVM Global - ECPv6.5.2//NONSGML v1.0//EN
CALSCALE:GREGORIAN
METHOD:PUBLISH
X-WR-CALNAME:IVM Global
X-ORIGINAL-URL:https://intra.ivmglobal.net
X-WR-CALDESC:Events for IVM Global
REFRESH-INTERVAL;VALUE=DURATION:PT1H
X-Robots-Tag:noindex
X-PUBLISHED-TTL:PT1H
BEGIN:VTIMEZONE
TZID:Europe/Helsinki
BEGIN:DAYLIGHT
TZOFFSETFROM:+0200
TZOFFSETTO:+0300
TZNAME:EEST
DTSTART:20230326T010000
END:DAYLIGHT
BEGIN:STANDARD
TZOFFSETFROM:+0300
TZOFFSETTO:+0200
TZNAME:EET
DTSTART:20231029T010000
END:STANDARD
END:VTIMEZONE
BEGIN:VEVENT
DTSTART;TZID=Europe/Helsinki:20231204T173000
DTEND;TZID=Europe/Helsinki:20231204T213000
DTSTAMP:20260421T225114
CREATED:20231105T235050Z
LAST-MODIFIED:20231105T235050Z
UID:10847-1701711000-1701725400@intra.ivmglobal.net
SUMMARY:Artistry Module 1 - Salo
DESCRIPTION:KURSSI: Artistry peruskurssi (Module 1)\n\nAIKA: Ma 4.12. klo 17.30-21.30 \nPAIKKA: Salo VPK talo\, asemakatu 3 \nHINTA: 15€\, ota mukaan käteisenä \nVETÄJÄT: Terhi Laine & Sari Riski \n SITOVAT ILMOITTAUTUMISET: Oman ylälinjan platinan kautta pe 1.12. mennessä.
URL:https://intra.ivmglobal.net/event/artistry-module-1-salo-4/
LOCATION:Salon VPK talo\, Asemakatu 3\, Salo\, Finland
CATEGORIES:Artistry-koulutus
END:VEVENT
BEGIN:VEVENT
DTSTART;TZID=Europe/Helsinki:20231206T190000
DTEND;TZID=Europe/Helsinki:20231206T200000
DTSTAMP:20260421T225114
CREATED:20230828T070043Z
LAST-MODIFIED:20230828T071507Z
UID:10606-1701889200-1701892800@intra.ivmglobal.net
SUMMARY:Salo OBM - peruttu
DESCRIPTION:
URL:https://intra.ivmglobal.net/event/salo-obm-peruttu/
LOCATION:Salon VPK talo\, Asemakatu 3\, Salo\, Finland
CATEGORIES:OBM (+NDO),OBM Salo
END:VEVENT
BEGIN:VEVENT
DTSTART;TZID=Europe/Helsinki:20231207T190000
DTEND;TZID=Europe/Helsinki:20231207T210000
DTSTAMP:20260421T225114
CREATED:20231126T181016Z
LAST-MODIFIED:20231127T165520Z
UID:10887-1701975600-1701982800@intra.ivmglobal.net
SUMMARY:Tampere OBM+NDO
DESCRIPTION:
URL:https://intra.ivmglobal.net/event/tampere-obm-16/
LOCATION:ABC Lahdesjärvi (Tampere)\, Automiehenkatu 39\, Tampere
CATEGORIES:OBM (+NDO),OBM Tampere
END:VEVENT
BEGIN:VEVENT
DTSTART;TZID=Europe/Helsinki:20231211T190000
DTEND;TZID=Europe/Helsinki:20231211T210000
DTSTAMP:20260421T225114
CREATED:20230508T045247Z
LAST-MODIFIED:20231202T102928Z
UID:10196-1702321200-1702328400@intra.ivmglobal.net
SUMMARY:Lahti OBM+NDO - Smaragdi Janne Kekoni
DESCRIPTION:
URL:https://intra.ivmglobal.net/event/lahti-obmndo-smaragdit-anne-janne-kekoni-3/
LOCATION:Hollolan Matkakeidas\, Hopeakalliontie 2\, Hollola\, 15880\, Suomi
CATEGORIES:OBM (+NDO),OBM Lahti
END:VEVENT
BEGIN:VEVENT
DTSTART;TZID=Europe/Helsinki:20231212T190000
DTEND;TZID=Europe/Helsinki:20231212T200000
DTSTAMP:20260421T225114
CREATED:20230828T183912Z
LAST-MODIFIED:20230828T183912Z
UID:10646-1702407600-1702411200@intra.ivmglobal.net
SUMMARY:Helsinki OBM - käynti Hollolantie 2
DESCRIPTION:
URL:https://intra.ivmglobal.net/event/helsinki-obm-kaynti-hollolantie-2-4/
LOCATION:Mäkelän koulu (Helsinki)\, Hattulantie 2\, Helsinki\, Finland
CATEGORIES:OBM (+NDO),OBM Helsinki
END:VEVENT
BEGIN:VEVENT
DTSTART;TZID=Europe/Helsinki:20231213T190000
DTEND;TZID=Europe/Helsinki:20231213T200000
DTSTAMP:20260421T225114
CREATED:20230828T070945Z
LAST-MODIFIED:20230828T070945Z
UID:10616-1702494000-1702497600@intra.ivmglobal.net
SUMMARY:Raisio OBM
DESCRIPTION:
URL:https://intra.ivmglobal.net/event/raisio-obm-22/
LOCATION:Kuninkojan vanha koulu\, Vuorelankatu 9\, Raisio
CATEGORIES:OBM (+NDO),OBM Turku
END:VEVENT
BEGIN:VEVENT
DTSTART;TZID=Europe/Helsinki:20231213T190000
DTEND;TZID=Europe/Helsinki:20231213T200000
DTSTAMP:20260421T225114
CREATED:20231023T154448Z
LAST-MODIFIED:20231023T154448Z
UID:10832-1702494000-1702497600@intra.ivmglobal.net
SUMMARY:Vaasa OBM - Smaragdi Irma Lund
DESCRIPTION:
URL:https://intra.ivmglobal.net/event/vaasa-obm-smaragdi-irma-lund-11/
LOCATION:ABC Airport (Vaasa)\, Kiitokaari 2\, Vaasa\, 65380
CATEGORIES:OBM (+NDO),OBM Vaasa
END:VEVENT
BEGIN:VEVENT
DTSTART;TZID=Europe/Helsinki:20231213T190000
DTEND;TZID=Europe/Helsinki:20231213T200000
DTSTAMP:20260421T225114
CREATED:20231105T065017Z
LAST-MODIFIED:20231105T065017Z
UID:10844-1702494000-1702497600@intra.ivmglobal.net
SUMMARY:Oulu OBM
DESCRIPTION:
URL:https://intra.ivmglobal.net/event/oulu-obm-11/
LOCATION:ABC Tupos\, Tuposkorva 1\, Liminka\, 91910\, Suomi
CATEGORIES:OBM (+NDO),OBM Oulu
END:VEVENT
BEGIN:VEVENT
DTSTART;TZID=Europe/Helsinki:20231214T190000
DTEND;TZID=Europe/Helsinki:20231214T200000
DTSTAMP:20260421T225114
CREATED:20231205T165025Z
LAST-MODIFIED:20231205T165025Z
UID:10901-1702580400-1702584000@intra.ivmglobal.net
SUMMARY:Kouvola OBM
DESCRIPTION:
URL:https://intra.ivmglobal.net/event/kouvola-obm-27/
LOCATION:Keltakankaan ABC (Kouvola)\, Hallitie 2\, Kouvola\, 46860
CATEGORIES:OBM (+NDO),OBM Kouvola
END:VEVENT
BEGIN:VEVENT
DTSTART;TZID=Europe/Helsinki:20231220T190000
DTEND;TZID=Europe/Helsinki:20231220T200000
DTSTAMP:20260421T225114
CREATED:20231212T190149Z
LAST-MODIFIED:20231212T190149Z
UID:10922-1703098800-1703102400@intra.ivmglobal.net
SUMMARY:Salo OBM
DESCRIPTION:
URL:https://intra.ivmglobal.net/event/salo-obm-10/
LOCATION:Salon VPK talo\, Asemakatu 3\, Salo\, Finland
CATEGORIES:OBM (+NDO),OBM Salo
END:VEVENT
BEGIN:VEVENT
DTSTART;TZID=Europe/Helsinki:20231227T190000
DTEND;TZID=Europe/Helsinki:20231227T210000
DTSTAMP:20260421T225114
CREATED:20231212T191827Z
LAST-MODIFIED:20231212T191827Z
UID:10934-1703703600-1703710800@intra.ivmglobal.net
SUMMARY:Raisio OBM+NDO - Smaragdi Terhi Laine
DESCRIPTION:
URL:https://intra.ivmglobal.net/event/raisio-obmndo-smaragdi-terhi-laine-3/
LOCATION:Kuninkojan vanha koulu\, Vuorelankatu 9\, Raisio
CATEGORIES:OBM (+NDO),OBM Turku
END:VEVENT
BEGIN:VEVENT
DTSTART;TZID=Europe/Helsinki:20231228T190000
DTEND;TZID=Europe/Helsinki:20231228T200000
DTSTAMP:20260421T225114
CREATED:20231205T165138Z
LAST-MODIFIED:20231205T165138Z
UID:10903-1703790000-1703793600@intra.ivmglobal.net
SUMMARY:Kouvola OBM
DESCRIPTION:
URL:https://intra.ivmglobal.net/event/kouvola-obm-28/
LOCATION:Keltakankaan ABC (Kouvola)\, Hallitie 2\, Kouvola\, 46860
CATEGORIES:OBM (+NDO),OBM Kouvola
END:VEVENT
END:VCALENDAR