﻿BEGIN:VCALENDAR
VERSION:2.0
PRODID:-//IVM Global - ECPv6.5.2//NONSGML v1.0//EN
CALSCALE:GREGORIAN
METHOD:PUBLISH
X-WR-CALNAME:IVM Global
X-ORIGINAL-URL:https://intra.ivmglobal.net
X-WR-CALDESC:Events for IVM Global
REFRESH-INTERVAL;VALUE=DURATION:PT1H
X-Robots-Tag:noindex
X-PUBLISHED-TTL:PT1H
BEGIN:VTIMEZONE
TZID:Europe/Helsinki
BEGIN:DAYLIGHT
TZOFFSETFROM:+0200
TZOFFSETTO:+0300
TZNAME:EEST
DTSTART:20220327T010000
END:DAYLIGHT
BEGIN:STANDARD
TZOFFSETFROM:+0300
TZOFFSETTO:+0200
TZNAME:EET
DTSTART:20221030T010000
END:STANDARD
END:VTIMEZONE
BEGIN:VEVENT
DTSTART;TZID=Europe/Helsinki:20221130T190000
DTEND;TZID=Europe/Helsinki:20221130T210000
DTSTAMP:20260421T170515
CREATED:20220815T132050Z
LAST-MODIFIED:20220903T060310Z
UID:9043-1669834800-1669842000@intra.ivmglobal.net
SUMMARY:Salo OBM+NDO - Safiiri Ansku Micklin
DESCRIPTION:
URL:https://intra.ivmglobal.net/event/salo-obm-9/
LOCATION:Salon VPK talo\, Asemakatu 3\, Salo\, Finland
CATEGORIES:OBM (+NDO),OBM Salo
END:VEVENT
BEGIN:VEVENT
DTSTART;TZID=Europe/Helsinki:20221129T190000
DTEND;TZID=Europe/Helsinki:20221129T200000
DTSTAMP:20260421T170515
CREATED:20221001T170918Z
LAST-MODIFIED:20221127T082852Z
UID:9311-1669748400-1669752000@intra.ivmglobal.net
SUMMARY:Helsinki OBM - sisäänkäynti Hollolantie 2
DESCRIPTION:
URL:https://intra.ivmglobal.net/event/helsinki-obm-7/
LOCATION:Mäkelän koulu (Helsinki)\, Hattulantie 2\, Helsinki\, Finland
CATEGORIES:OBM (+NDO),OBM Helsinki
END:VEVENT
BEGIN:VEVENT
DTSTART;TZID=Europe/Helsinki:20221128T190000
DTEND;TZID=Europe/Helsinki:20221128T200000
DTSTAMP:20260421T170515
CREATED:20220925T052050Z
LAST-MODIFIED:20221126T175622Z
UID:9295-1669662000-1669665600@intra.ivmglobal.net
SUMMARY:Lahti OBM
DESCRIPTION:
URL:https://intra.ivmglobal.net/event/lahti-obm-4/
LOCATION:Hollolan Matkakeidas\, Hopeakalliontie 2\, Hollola\, 15880\, Suomi
CATEGORIES:OBM (+NDO),OBM Lahti
END:VEVENT
BEGIN:VEVENT
DTSTART;TZID=Europe/Helsinki:20221124T190000
DTEND;TZID=Europe/Helsinki:20221124T210000
DTSTAMP:20260421T170515
CREATED:20220818T175340Z
LAST-MODIFIED:20220818T175340Z
UID:9086-1669316400-1669323600@intra.ivmglobal.net
SUMMARY:Oulu OBM+NDO - Smaragdi Irma Lund
DESCRIPTION:
URL:https://intra.ivmglobal.net/event/oulu-obmndo-smaragdi-irma-lund-2/
LOCATION:Alatemmeksen kylätalo\, Jyväskyläntie 66\, Liminka\, Pohjoispohjanmaa\, 91930\, Suomi
CATEGORIES:OBM (+NDO),OBM Oulu
END:VEVENT
BEGIN:VEVENT
DTSTART;TZID=Europe/Helsinki:20221123T190000
DTEND;TZID=Europe/Helsinki:20221123T210000
DTSTAMP:20260421T170515
CREATED:20220815T134836Z
LAST-MODIFIED:20220815T134836Z
UID:9061-1669230000-1669237200@intra.ivmglobal.net
SUMMARY:Raisio OBM+NDO - Smaragdi Terhi Laine
DESCRIPTION:
URL:https://intra.ivmglobal.net/event/raisio-obmndo-smaragdi-terhi-laine/
LOCATION:Kuninkojan vanha koulu\, Vuorelankatu 9\, Raisio
CATEGORIES:OBM (+NDO),OBM Turku
END:VEVENT
BEGIN:VEVENT
DTSTART;TZID=Europe/Helsinki:20221121T190000
DTEND;TZID=Europe/Helsinki:20221121T200000
DTSTAMP:20260421T170515
CREATED:20220321T081228Z
LAST-MODIFIED:20221118T094117Z
UID:8440-1669057200-1669060800@intra.ivmglobal.net
SUMMARY:OBM Hämeenlinna
DESCRIPTION:
URL:https://intra.ivmglobal.net/event/obm-hameenlinna-2/
LOCATION:ABC Tiiriö\, Paroistetie 1\, Hämeenlinna\, Hämeenlinna\, 13600\, Suomi
CATEGORIES:OBM (+NDO),OBM Hämeenlinna
END:VEVENT
BEGIN:VEVENT
DTSTART;TZID=Europe/Helsinki:20221117T190000
DTEND;TZID=Europe/Helsinki:20221117T200000
DTSTAMP:20260421T170515
CREATED:20220825T181245Z
LAST-MODIFIED:20220825T181245Z
UID:9101-1668711600-1668715200@intra.ivmglobal.net
SUMMARY:Kouvola OBM
DESCRIPTION:
URL:https://intra.ivmglobal.net/event/kouvola-obm-5/
LOCATION:Keltakankaan ABC (Kouvola)\, Hallitie 2\, Kouvola\, 46860
CATEGORIES:OBM (+NDO),OBM Kouvola
END:VEVENT
BEGIN:VEVENT
DTSTART;TZID=Europe/Helsinki:20221116T190000
DTEND;TZID=Europe/Helsinki:20221116T200000
DTSTAMP:20260421T170515
CREATED:20220908T064319Z
LAST-MODIFIED:20220908T064319Z
UID:9150-1668625200-1668628800@intra.ivmglobal.net
SUMMARY:Vaasa OBM - Smaragdi Irma Lund
DESCRIPTION:
URL:https://intra.ivmglobal.net/event/vaasa-obm-smaragdi-irma-lund-2/
LOCATION:ABC Airport (Vaasa)\, Kiitokaari 2\, Vaasa\, 65380
CATEGORIES:OBM (+NDO),OBM Vaasa
END:VEVENT
BEGIN:VEVENT
DTSTART;TZID=Europe/Helsinki:20221116T190000
DTEND;TZID=Europe/Helsinki:20221116T200000
DTSTAMP:20260421T170515
CREATED:20220815T132305Z
LAST-MODIFIED:20220815T132305Z
UID:9045-1668625200-1668628800@intra.ivmglobal.net
SUMMARY:Salo OBM
DESCRIPTION:
URL:https://intra.ivmglobal.net/event/salo-obm-11/
LOCATION:Salon VPK talo\, Asemakatu 3\, Salo\, Finland
CATEGORIES:OBM (+NDO),OBM Salo
END:VEVENT
BEGIN:VEVENT
DTSTART;TZID=Europe/Helsinki:20221115T190000
DTEND;TZID=Europe/Helsinki:20221115T200000
DTSTAMP:20260421T170515
CREATED:20221001T170806Z
LAST-MODIFIED:20221115T174837Z
UID:9309-1668538800-1668542400@intra.ivmglobal.net
SUMMARY:Helsinki OBM
DESCRIPTION:Korjattu oikea hinta 5€ sivuille – oli 3€ – minun virhe – anteeksi. T – Harri
URL:https://intra.ivmglobal.net/event/helsinki-obm-6/
LOCATION:Mäkelän koulu (Helsinki)\, Hattulantie 2\, Helsinki\, Finland
CATEGORIES:OBM (+NDO),OBM Helsinki
END:VEVENT
BEGIN:VEVENT
DTSTART;TZID=Europe/Helsinki:20221114T190000
DTEND;TZID=Europe/Helsinki:20221114T200000
DTSTAMP:20260421T170515
CREATED:20221108T200236Z
LAST-MODIFIED:20221114T071514Z
UID:9366-1668452400-1668456000@intra.ivmglobal.net
SUMMARY:Lahti OBM **** PERUTTU!!!  ***
DESCRIPTION:
URL:https://intra.ivmglobal.net/event/lahti-obm-5/
LOCATION:Hollolan Matkakeidas\, Hopeakalliontie 2\, Hollola\, 15880\, Suomi
CATEGORIES:OBM (+NDO),OBM Lahti
END:VEVENT
BEGIN:VEVENT
DTSTART;TZID=Europe/Helsinki:20221109T190000
DTEND;TZID=Europe/Helsinki:20221109T200000
DTSTAMP:20260421T170515
CREATED:20220815T134654Z
LAST-MODIFIED:20220815T134654Z
UID:9059-1668020400-1668024000@intra.ivmglobal.net
SUMMARY:Raisio OBM
DESCRIPTION:
URL:https://intra.ivmglobal.net/event/raisio-obm-4/
LOCATION:Kuninkojan vanha koulu\, Vuorelankatu 9\, Raisio
CATEGORIES:OBM (+NDO),OBM Turku
END:VEVENT
BEGIN:VEVENT
DTSTART;TZID=Europe/Helsinki:20221107T190000
DTEND;TZID=Europe/Helsinki:20221107T203000
DTSTAMP:20260421T170515
CREATED:20220905T163522Z
LAST-MODIFIED:20221104T121105Z
UID:8759-1667847600-1667853000@intra.ivmglobal.net
SUMMARY:OBM Hämeenlinna
DESCRIPTION:
URL:https://intra.ivmglobal.net/event/obm-hameenlinna-3/
LOCATION:ABC Tiiriö\, Paroistetie 1\, Hämeenlinna\, Hämeenlinna\, 13600\, Suomi
CATEGORIES:OBM (+NDO),OBM Hämeenlinna
END:VEVENT
BEGIN:VEVENT
DTSTART;TZID=Europe/Helsinki:20221103T190000
DTEND;TZID=Europe/Helsinki:20221103T200000
DTSTAMP:20260421T170515
CREATED:20220825T181126Z
LAST-MODIFIED:20220825T181126Z
UID:9099-1667502000-1667505600@intra.ivmglobal.net
SUMMARY:Kouvola OBM
DESCRIPTION:
URL:https://intra.ivmglobal.net/event/kouvola-obm-4/
LOCATION:Keltakankaan ABC (Kouvola)\, Hallitie 2\, Kouvola\, 46860
CATEGORIES:OBM (+NDO),OBM Kouvola
END:VEVENT
BEGIN:VEVENT
DTSTART;TZID=Europe/Helsinki:20221103T190000
DTEND;TZID=Europe/Helsinki:20221103T200000
DTSTAMP:20260421T170515
CREATED:20220818T175155Z
LAST-MODIFIED:20220818T175155Z
UID:9084-1667502000-1667505600@intra.ivmglobal.net
SUMMARY:Oulu OBM
DESCRIPTION:
URL:https://intra.ivmglobal.net/event/oulu-obm-3/
LOCATION:Alatemmeksen kylätalo\, Jyväskyläntie 66\, Liminka\, Pohjoispohjanmaa\, 91930\, Suomi
CATEGORIES:OBM (+NDO),OBM Oulu
END:VEVENT
BEGIN:VEVENT
DTSTART;TZID=Europe/Helsinki:20221102T190000
DTEND;TZID=Europe/Helsinki:20221102T200000
DTSTAMP:20260421T170515
CREATED:20220908T064155Z
LAST-MODIFIED:20220908T064155Z
UID:9148-1667415600-1667419200@intra.ivmglobal.net
SUMMARY:Vaasa OBM - Safiiri Merja Fogde
DESCRIPTION:
URL:https://intra.ivmglobal.net/event/vaasa-obm-safiiri-merja-fogde-3/
LOCATION:ABC Airport (Vaasa)\, Kiitokaari 2\, Vaasa\, 65380
CATEGORIES:OBM (+NDO),OBM Vaasa
END:VEVENT
BEGIN:VEVENT
DTSTART;TZID=Europe/Helsinki:20221102T190000
DTEND;TZID=Europe/Helsinki:20221102T200000
DTSTAMP:20260421T170515
CREATED:20220815T131925Z
LAST-MODIFIED:20220903T060622Z
UID:9041-1667415600-1667419200@intra.ivmglobal.net
SUMMARY:Salo OBM
DESCRIPTION:
URL:https://intra.ivmglobal.net/event/salo-obmndo-safiiri-ansku-micklin/
LOCATION:Salon VPK talo\, Asemakatu 3\, Salo\, Finland
CATEGORIES:OBM (+NDO),OBM Salo
END:VEVENT
BEGIN:VEVENT
DTSTART;TZID=Europe/Helsinki:20221101T190000
DTEND;TZID=Europe/Helsinki:20221101T220000
DTSTAMP:20260421T170515
CREATED:20220706T211407Z
LAST-MODIFIED:20220901T145541Z
UID:8818-1667329200-1667340000@intra.ivmglobal.net
SUMMARY:OBM+NDO Helsinki - Timantit Vaula & Ian McDermott- käyntiosoite Hollolantie 2
DESCRIPTION:
URL:https://intra.ivmglobal.net/event/obmndo-helsinki-timantti-ian-mcdermott-kayntiosoite-hollolantie-2/
LOCATION:Mäkelän koulu (Helsinki)\, Hattulantie 2\, Helsinki\, Finland
CATEGORIES:OBM (+NDO),OBM Helsinki
END:VEVENT
BEGIN:VEVENT
DTSTART;TZID=Europe/Helsinki:20221031T190000
DTEND;TZID=Europe/Helsinki:20221031T200000
DTSTAMP:20260421T170515
CREATED:20220925T052227Z
LAST-MODIFIED:20220925T052227Z
UID:9297-1667242800-1667246400@intra.ivmglobal.net
SUMMARY:Lahti OBM - Huom! Peruttu - Vaula & Ian Helsinki 01.11.
DESCRIPTION:
URL:https://intra.ivmglobal.net/event/lahti-obm-huom-peruttu-vaula-ian-helsinki-01-11/
LOCATION:Hollolan Matkakeidas\, Hopeakalliontie 2\, Hollola\, 15880\, Suomi
CATEGORIES:OBM (+NDO),OBM Lahti
END:VEVENT
BEGIN:VEVENT
DTSTART;TZID=Europe/Helsinki:20221026T190000
DTEND;TZID=Europe/Helsinki:20221026T200000
DTSTAMP:20260421T170515
CREATED:20220815T134446Z
LAST-MODIFIED:20220815T134446Z
UID:9057-1666810800-1666814400@intra.ivmglobal.net
SUMMARY:Raisio OBM
DESCRIPTION:
URL:https://intra.ivmglobal.net/event/raisio-obm-3/
LOCATION:Kuninkojan vanha koulu\, Vuorelankatu 9\, Raisio
CATEGORIES:OBM (+NDO),OBM Turku
END:VEVENT
BEGIN:VEVENT
DTSTART;TZID=Europe/Helsinki:20221024T190000
DTEND;TZID=Europe/Helsinki:20221024T200000
DTSTAMP:20260421T170515
CREATED:20220925T051449Z
LAST-MODIFIED:20220925T052447Z
UID:9291-1666638000-1666641600@intra.ivmglobal.net
SUMMARY:Hämeenlinna OBM
DESCRIPTION:
URL:https://intra.ivmglobal.net/event/hameenlinna-obm-4/
LOCATION:ABC Tiiriö\, Paroistetie 1\, Hämeenlinna\, Hämeenlinna\, 13600\, Suomi
CATEGORIES:OBM (+NDO),OBM Hämeenlinna
END:VEVENT
BEGIN:VEVENT
DTSTART;TZID=Europe/Helsinki:20221020T190000
DTEND;TZID=Europe/Helsinki:20221020T200000
DTSTAMP:20260421T170515
CREATED:20220825T181009Z
LAST-MODIFIED:20221012T180905Z
UID:9097-1666292400-1666296000@intra.ivmglobal.net
SUMMARY:Kouvola OBM - Timantit Pia & Harri Pentti
DESCRIPTION:
URL:https://intra.ivmglobal.net/event/kouvola-obm-3/
LOCATION:Keltakankaan ABC (Kouvola)\, Hallitie 2\, Kouvola\, 46860
CATEGORIES:OBM (+NDO),OBM Kouvola
END:VEVENT
BEGIN:VEVENT
DTSTART;TZID=Europe/Helsinki:20221019T190000
DTEND;TZID=Europe/Helsinki:20221019T220000
DTSTAMP:20260421T170515
CREATED:20220815T131711Z
LAST-MODIFIED:20221016T080617Z
UID:9039-1666206000-1666216800@intra.ivmglobal.net
SUMMARY:Salo OBM +NDO - Timantit Vaula & Ian McDermott
DESCRIPTION:
URL:https://intra.ivmglobal.net/event/salo-obm-8/
LOCATION:Salon VPK talo\, Asemakatu 3\, Salo\, Finland
CATEGORIES:OBM (+NDO),OBM Salo
END:VEVENT
BEGIN:VEVENT
DTSTART;TZID=Europe/Helsinki:20221019T190000
DTEND;TZID=Europe/Helsinki:20221019T210000
DTSTAMP:20260421T170515
CREATED:20220908T064037Z
LAST-MODIFIED:20220908T064037Z
UID:9146-1666206000-1666213200@intra.ivmglobal.net
SUMMARY:Vaasa OBM+NDO - Smaragdi Irma Lund
DESCRIPTION:
URL:https://intra.ivmglobal.net/event/vaasa-obmndo-smaragdi-irma-lund/
LOCATION:ABC Airport (Vaasa)\, Kiitokaari 2\, Vaasa\, 65380
CATEGORIES:OBM (+NDO),OBM Vaasa
END:VEVENT
BEGIN:VEVENT
DTSTART;TZID=Europe/Helsinki:20221018T190000
DTEND;TZID=Europe/Helsinki:20221018T200000
DTSTAMP:20260421T170515
CREATED:20221001T170628Z
LAST-MODIFIED:20221001T170628Z
UID:9307-1666119600-1666123200@intra.ivmglobal.net
SUMMARY:Helsinki OBM
DESCRIPTION:
URL:https://intra.ivmglobal.net/event/helsinki-obm-5/
LOCATION:Mäkelän koulu (Helsinki)\, Hattulantie 2\, Helsinki\, Finland
CATEGORIES:OBM (+NDO),OBM Helsinki
END:VEVENT
BEGIN:VEVENT
DTSTART;TZID=Europe/Helsinki:20221013T190000
DTEND;TZID=Europe/Helsinki:20221013T200000
DTSTAMP:20260421T170515
CREATED:20220818T174955Z
LAST-MODIFIED:20220818T174955Z
UID:9082-1665687600-1665691200@intra.ivmglobal.net
SUMMARY:Oulu OBM
DESCRIPTION:
URL:https://intra.ivmglobal.net/event/oulu-obm-2/
LOCATION:Alatemmeksen kylätalo\, Jyväskyläntie 66\, Liminka\, Pohjoispohjanmaa\, 91930\, Suomi
CATEGORIES:OBM (+NDO),OBM Oulu
END:VEVENT
BEGIN:VEVENT
DTSTART;TZID=Europe/Helsinki:20221012T190000
DTEND;TZID=Europe/Helsinki:20221012T210000
DTSTAMP:20260421T170515
CREATED:20220815T133155Z
LAST-MODIFIED:20220815T135427Z
UID:9055-1665601200-1665608400@intra.ivmglobal.net
SUMMARY:Raisio OBM+NDO - Smaragdit Jari Hautamäki & Leena Tiitola
DESCRIPTION:
URL:https://intra.ivmglobal.net/event/salo-obmndo-smaragdit-jari-hautamaki-leena-tiitola-2/
LOCATION:Kuninkojan vanha koulu\, Vuorelankatu 9\, Raisio
CATEGORIES:OBM (+NDO),OBM Turku
END:VEVENT
BEGIN:VEVENT
DTSTART;TZID=Europe/Helsinki:20221010T190000
DTEND;TZID=Europe/Helsinki:20221010T200000
DTSTAMP:20260421T170515
CREATED:20220925T051338Z
LAST-MODIFIED:20220925T052552Z
UID:9289-1665428400-1665432000@intra.ivmglobal.net
SUMMARY:Hämeenlinna OBM
DESCRIPTION:
URL:https://intra.ivmglobal.net/event/hameenlinna-obm-3/
LOCATION:ABC Tiiriö\, Paroistetie 1\, Hämeenlinna\, Hämeenlinna\, 13600\, Suomi
CATEGORIES:OBM (+NDO),OBM Hämeenlinna
END:VEVENT
BEGIN:VEVENT
DTSTART;TZID=Europe/Helsinki:20221006T190000
DTEND;TZID=Europe/Helsinki:20221006T220000
DTSTAMP:20260421T170515
CREATED:20220825T180851Z
LAST-MODIFIED:20220830T162340Z
UID:9095-1665082800-1665093600@intra.ivmglobal.net
SUMMARY:Kouvola OBM+NDO - Timantit Vaula & Ian McDermott
DESCRIPTION:
URL:https://intra.ivmglobal.net/event/kouvola-obm-2/
LOCATION:Keltakankaan ABC (Kouvola)\, Hallitie 2\, Kouvola\, 46860
CATEGORIES:OBM (+NDO),OBM Kouvola
END:VEVENT
BEGIN:VEVENT
DTSTART;TZID=Europe/Helsinki:20221005T190000
DTEND;TZID=Europe/Helsinki:20221005T200000
DTSTAMP:20260421T170515
CREATED:20220908T063855Z
LAST-MODIFIED:20220908T063855Z
UID:9144-1664996400-1665000000@intra.ivmglobal.net
SUMMARY:Vaasa OBM - Safiiri Merja Fogde
DESCRIPTION:
URL:https://intra.ivmglobal.net/event/vaasa-obm-safiiri-merja-fogde-2/
LOCATION:ABC Airport (Vaasa)\, Kiitokaari 2\, Vaasa\, 65380
CATEGORIES:OBM (+NDO),OBM Vaasa
END:VEVENT
END:VCALENDAR