﻿BEGIN:VCALENDAR
VERSION:2.0
PRODID:-//IVM Global - ECPv6.5.2//NONSGML v1.0//EN
CALSCALE:GREGORIAN
METHOD:PUBLISH
X-WR-CALNAME:IVM Global
X-ORIGINAL-URL:https://intra.ivmglobal.net
X-WR-CALDESC:Events for IVM Global
REFRESH-INTERVAL;VALUE=DURATION:PT1H
X-Robots-Tag:noindex
X-PUBLISHED-TTL:PT1H
BEGIN:VTIMEZONE
TZID:Europe/Helsinki
BEGIN:DAYLIGHT
TZOFFSETFROM:+0200
TZOFFSETTO:+0300
TZNAME:EEST
DTSTART:20220327T010000
END:DAYLIGHT
BEGIN:STANDARD
TZOFFSETFROM:+0300
TZOFFSETTO:+0200
TZNAME:EET
DTSTART:20221030T010000
END:STANDARD
BEGIN:DAYLIGHT
TZOFFSETFROM:+0200
TZOFFSETTO:+0300
TZNAME:EEST
DTSTART:20230326T010000
END:DAYLIGHT
BEGIN:STANDARD
TZOFFSETFROM:+0300
TZOFFSETTO:+0200
TZNAME:EET
DTSTART:20231029T010000
END:STANDARD
END:VTIMEZONE
BEGIN:VEVENT
DTSTART;TZID=Europe/Helsinki:20230215T190000
DTEND;TZID=Europe/Helsinki:20230215T210000
DTSTAMP:20260421T141816
CREATED:20230119T085306Z
LAST-MODIFIED:20230119T085306Z
UID:9779-1676487600-1676494800@intra.ivmglobal.net
SUMMARY:Oulu OBM+NDO - Smaragdi Irma Lund\, paikka: ABC Tupos
DESCRIPTION:
URL:https://intra.ivmglobal.net/event/oulu-obmndo-smaragdi-irma-lund-paikka-abc-tupos/
LOCATION:ABC Tupos\, Tuposkorva 1\, Liminka\, 91910\, Suomi
CATEGORIES:OBM (+NDO),OBM Oulu
END:VEVENT
BEGIN:VEVENT
DTSTART;TZID=Europe/Helsinki:20230215T190000
DTEND;TZID=Europe/Helsinki:20230215T200000
DTSTAMP:20260421T141816
CREATED:20221219T091817Z
LAST-MODIFIED:20221219T091817Z
UID:9708-1676487600-1676491200@intra.ivmglobal.net
SUMMARY:Salo OBM
DESCRIPTION:
URL:https://intra.ivmglobal.net/event/salo-obm-15/
LOCATION:Salon VPK talo\, Asemakatu 3\, Salo\, Finland
CATEGORIES:OBM (+NDO),OBM Salo
END:VEVENT
BEGIN:VEVENT
DTSTART;TZID=Europe/Helsinki:20230213T190000
DTEND;TZID=Europe/Helsinki:20230213T200000
DTSTAMP:20260421T141816
CREATED:20230121T072314Z
LAST-MODIFIED:20230121T072314Z
UID:9796-1676314800-1676318400@intra.ivmglobal.net
SUMMARY:Hämeenlinna OBM
DESCRIPTION:
URL:https://intra.ivmglobal.net/event/hameenlinna-obm-8/
LOCATION:ABC Tiiriö\, Paroistetie 1\, Hämeenlinna\, Hämeenlinna\, 13600\, Suomi
CATEGORIES:OBM (+NDO),OBM Hämeenlinna
END:VEVENT
BEGIN:VEVENT
DTSTART;TZID=Europe/Helsinki:20230209T190000
DTEND;TZID=Europe/Helsinki:20230209T200000
DTSTAMP:20260421T141816
CREATED:20221218T183440Z
LAST-MODIFIED:20230201T055754Z
UID:9699-1675969200-1675972800@intra.ivmglobal.net
SUMMARY:Kouvola OBM - Timantit Pia & Harri Pentti
DESCRIPTION:
URL:https://intra.ivmglobal.net/event/kouvola-obm-10/
LOCATION:Keltakankaan ABC (Kouvola)\, Hallitie 2\, Kouvola\, 46860
CATEGORIES:OBM (+NDO),OBM Kouvola
END:VEVENT
BEGIN:VEVENT
DTSTART;TZID=Europe/Helsinki:20230208T190000
DTEND;TZID=Europe/Helsinki:20230208T200000
DTSTAMP:20260421T141816
CREATED:20230127T173348Z
LAST-MODIFIED:20230127T173348Z
UID:9805-1675882800-1675886400@intra.ivmglobal.net
SUMMARY:Vaasa OBM - Smaragdi Irma Lund
DESCRIPTION:
URL:https://intra.ivmglobal.net/event/vaasa-obm-smaragdi-irma-lund-4/
LOCATION:ABC Airport (Vaasa)\, Kiitokaari 2\, Vaasa\, 65380
CATEGORIES:OBM (+NDO),OBM Vaasa
END:VEVENT
BEGIN:VEVENT
DTSTART;TZID=Europe/Helsinki:20230208T190000
DTEND;TZID=Europe/Helsinki:20230208T200000
DTSTAMP:20260421T141816
CREATED:20221219T092228Z
LAST-MODIFIED:20221219T092228Z
UID:9714-1675882800-1675886400@intra.ivmglobal.net
SUMMARY:Raisio OBM
DESCRIPTION:
URL:https://intra.ivmglobal.net/event/raisio-obm-8/
LOCATION:Kuninkojan vanha koulu\, Vuorelankatu 9\, Raisio
CATEGORIES:OBM (+NDO),OBM Turku
END:VEVENT
BEGIN:VEVENT
DTSTART;TZID=Europe/Helsinki:20230207T190000
DTEND;TZID=Europe/Helsinki:20230207T200000
DTSTAMP:20260421T141816
CREATED:20221218T102317Z
LAST-MODIFIED:20221218T102317Z
UID:9691-1675796400-1675800000@intra.ivmglobal.net
SUMMARY:Helsinki OBM\, sisäänkäynti Hollolantie 2
DESCRIPTION:
URL:https://intra.ivmglobal.net/event/helsinki-obm-sisaankaynti-hollolantie-2-2/
LOCATION:Mäkelän koulu (Helsinki)\, Hattulantie 2\, Helsinki\, Finland
CATEGORIES:OBM (+NDO),OBM Helsinki
END:VEVENT
BEGIN:VEVENT
DTSTART;TZID=Europe/Helsinki:20230206T190000
DTEND;TZID=Europe/Helsinki:20230206T200000
DTSTAMP:20260421T141816
CREATED:20230121T071928Z
LAST-MODIFIED:20230121T071928Z
UID:9792-1675710000-1675713600@intra.ivmglobal.net
SUMMARY:Lahti OBM
DESCRIPTION:
URL:https://intra.ivmglobal.net/event/lahti-obm-8/
LOCATION:Hollolan Matkakeidas\, Hopeakalliontie 2\, Hollola\, 15880\, Suomi
CATEGORIES:OBM (+NDO),OBM Lahti
END:VEVENT
BEGIN:VEVENT
DTSTART;TZID=Europe/Helsinki:20230201T190000
DTEND;TZID=Europe/Helsinki:20230201T200000
DTSTAMP:20260421T141816
CREATED:20221219T091702Z
LAST-MODIFIED:20221219T091702Z
UID:9706-1675278000-1675281600@intra.ivmglobal.net
SUMMARY:Salo OBM
DESCRIPTION:
URL:https://intra.ivmglobal.net/event/salo-obm-14/
LOCATION:Salon VPK talo\, Asemakatu 3\, Salo\, Finland
CATEGORIES:OBM (+NDO),OBM Salo
END:VEVENT
BEGIN:VEVENT
DTSTART;TZID=Europe/Helsinki:20230130T190000
DTEND;TZID=Europe/Helsinki:20230130T200000
DTSTAMP:20260421T141816
CREATED:20230123T154139Z
LAST-MODIFIED:20230123T154304Z
UID:9802-1675105200-1675108800@intra.ivmglobal.net
SUMMARY:Tampere OBM - Smaragdit Jari Hautamäki & Leena Tiitola
DESCRIPTION:
URL:https://intra.ivmglobal.net/event/tampere-obm-smaragdit-jari-hautamaki-leena-tiitola/
LOCATION:ABC Lahdesjärvi (Tampere)\, Automiehenkatu 39\, Tampere
CATEGORIES:OBM (+NDO),OBM Tampere
END:VEVENT
BEGIN:VEVENT
DTSTART;TZID=Europe/Helsinki:20230130T190000
DTEND;TZID=Europe/Helsinki:20230130T200000
DTSTAMP:20260421T141816
CREATED:20230121T072121Z
LAST-MODIFIED:20230121T072121Z
UID:9794-1675105200-1675108800@intra.ivmglobal.net
SUMMARY:Hämeenlinna OBM
DESCRIPTION:
URL:https://intra.ivmglobal.net/event/hameenlinna-obm-7/
LOCATION:ABC Tiiriö\, Paroistetie 1\, Hämeenlinna\, Hämeenlinna\, 13600\, Suomi
CATEGORIES:OBM (+NDO),OBM Hämeenlinna
END:VEVENT
BEGIN:VEVENT
DTSTART;TZID=Europe/Helsinki:20230126T190000
DTEND;TZID=Europe/Helsinki:20230126T200000
DTSTAMP:20260421T141816
CREATED:20221218T183312Z
LAST-MODIFIED:20221218T183312Z
UID:9697-1674759600-1674763200@intra.ivmglobal.net
SUMMARY:Kouvola OBM
DESCRIPTION:
URL:https://intra.ivmglobal.net/event/kouvola-obm-9/
LOCATION:Keltakankaan ABC (Kouvola)\, Hallitie 2\, Kouvola\, 46860
CATEGORIES:OBM (+NDO),OBM Kouvola
END:VEVENT
BEGIN:VEVENT
DTSTART;TZID=Europe/Helsinki:20230125T190000
DTEND;TZID=Europe/Helsinki:20230125T210000
DTSTAMP:20260421T141816
CREATED:20221219T092120Z
LAST-MODIFIED:20230102T095003Z
UID:9712-1674673200-1674680400@intra.ivmglobal.net
SUMMARY:Raisio OBM+NDO - Safiiri Ansku Micklin
DESCRIPTION:
URL:https://intra.ivmglobal.net/event/raisio-obmndo-safiiri-ansku-micklin/
LOCATION:Kuninkojan vanha koulu\, Vuorelankatu 9\, Raisio
CATEGORIES:OBM (+NDO),OBM Turku
END:VEVENT
BEGIN:VEVENT
DTSTART;TZID=Europe/Helsinki:20230125T190000
DTEND;TZID=Europe/Helsinki:20230125T200000
DTSTAMP:20260421T141816
CREATED:20221207T193025Z
LAST-MODIFIED:20221207T193025Z
UID:9610-1674673200-1674676800@intra.ivmglobal.net
SUMMARY:Vaasa OBM - Safiiri Merja Fogde
DESCRIPTION:
URL:https://intra.ivmglobal.net/event/vaasa-obm-safiiri-merja-fogde-5/
LOCATION:ABC Airport (Vaasa)\, Kiitokaari 2\, Vaasa\, 65380
CATEGORIES:OBM (+NDO),OBM Vaasa
END:VEVENT
BEGIN:VEVENT
DTSTART;TZID=Europe/Helsinki:20230124T190000
DTEND;TZID=Europe/Helsinki:20230124T220000
DTSTAMP:20260421T141816
CREATED:20221211T064617Z
LAST-MODIFIED:20221218T102650Z
UID:9679-1674586800-1674597600@intra.ivmglobal.net
SUMMARY:Helsinki OBM+NDO - Timantti Vaula McDermott\, sisäänkäynti Hollolantie 2
DESCRIPTION:Luokka 333
URL:https://intra.ivmglobal.net/event/helsinki-obmndo-timantti-vaula-mcdermott-sisaankaynti-hollolantie-2/
LOCATION:Mäkelän koulu (Helsinki)\, Hattulantie 2\, Helsinki\, Finland
CATEGORIES:OBM (+NDO),OBM Helsinki
END:VEVENT
BEGIN:VEVENT
DTSTART;TZID=Europe/Helsinki:20230123T190000
DTEND;TZID=Europe/Helsinki:20230123T200000
DTSTAMP:20260421T141816
CREATED:20230121T071749Z
LAST-MODIFIED:20230121T071749Z
UID:9790-1674500400-1674504000@intra.ivmglobal.net
SUMMARY:Lahti OBM - Huom! Peruttu - Vaula Hki 24.01.
DESCRIPTION:
URL:https://intra.ivmglobal.net/event/lahti-obm-huom-peruttu-vaula-hki-24-01/
CATEGORIES:OBM (+NDO),OBM Lahti
END:VEVENT
BEGIN:VEVENT
DTSTART;TZID=Europe/Helsinki:20230119T190000
DTEND;TZID=Europe/Helsinki:20230119T220000
DTSTAMP:20260421T141816
CREATED:20221211T064318Z
LAST-MODIFIED:20221211T064318Z
UID:9677-1674154800-1674165600@intra.ivmglobal.net
SUMMARY:Kouvola OBM+NDO - Timantti Vaula McDermott
DESCRIPTION:
URL:https://intra.ivmglobal.net/event/kouvola-obmndo-timantti-vaula-mcdermott/
LOCATION:Keltakankaan ABC (Kouvola)\, Hallitie 2\, Kouvola\, 46860
CATEGORIES:OBM (+NDO),OBM Kouvola
END:VEVENT
BEGIN:VEVENT
DTSTART;TZID=Europe/Helsinki:20230118T190000
DTEND;TZID=Europe/Helsinki:20230118T220000
DTSTAMP:20260421T141816
CREATED:20221211T073351Z
LAST-MODIFIED:20221211T073351Z
UID:9681-1674068400-1674079200@intra.ivmglobal.net
SUMMARY:Salo OBM+NDO - Timantti Vaula McDermott
DESCRIPTION:
URL:https://intra.ivmglobal.net/event/salo-obmndo-timantti-vaula-mcdermott/
LOCATION:Salon VPK talo\, Asemakatu 3\, Salo\, Finland
CATEGORIES:OBM (+NDO),OBM Salo
END:VEVENT
BEGIN:VEVENT
DTSTART;TZID=Europe/Helsinki:20230118T190000
DTEND;TZID=Europe/Helsinki:20230118T200000
DTSTAMP:20260421T141816
CREATED:20230104T191251Z
LAST-MODIFIED:20230104T191251Z
UID:9746-1674068400-1674072000@intra.ivmglobal.net
SUMMARY:Oulu OBM - ABC Tupos\, 2krs kokoustila
DESCRIPTION:Osoite: Tuposkorva 1\, 91910 Tupos (Liminka)
URL:https://intra.ivmglobal.net/event/oulu-obm-abc-tupos-2krs-kokoustila/
LOCATION:ABC Tupos\, Tuposkorva 1\, Liminka\, 91910\, Suomi
CATEGORIES:OBM (+NDO),OBM Oulu
END:VEVENT
BEGIN:VEVENT
DTSTART;TZID=Europe/Helsinki:20230116T190000
DTEND;TZID=Europe/Helsinki:20230116T200000
DTSTAMP:20260421T141816
CREATED:20221128T152306Z
LAST-MODIFIED:20230115T180127Z
UID:9518-1673895600-1673899200@intra.ivmglobal.net
SUMMARY:Hämeenlinna OBM
DESCRIPTION:
URL:https://intra.ivmglobal.net/event/hameenlinna-obm-5/
LOCATION:ABC Tiiriö\, Paroistetie 1\, Hämeenlinna\, Hämeenlinna\, 13600\, Suomi
CATEGORIES:OBM (+NDO),OBM Hämeenlinna
END:VEVENT
BEGIN:VEVENT
DTSTART;TZID=Europe/Helsinki:20230111T190000
DTEND;TZID=Europe/Helsinki:20230111T210000
DTSTAMP:20260421T141816
CREATED:20221207T192847Z
LAST-MODIFIED:20221207T192847Z
UID:9605-1673463600-1673470800@intra.ivmglobal.net
SUMMARY:Vaasa OBM+NDO - Smaragdi Irma Lund
DESCRIPTION:
URL:https://intra.ivmglobal.net/event/vaasa-obmndo-smaragdi-irma-lund-2/
LOCATION:ABC Airport (Vaasa)\, Kiitokaari 2\, Vaasa\, 65380
CATEGORIES:OBM (+NDO),OBM Vaasa
END:VEVENT
BEGIN:VEVENT
DTSTART;TZID=Europe/Helsinki:20230111T190000
DTEND;TZID=Europe/Helsinki:20230111T200000
DTSTAMP:20260421T141816
CREATED:20221219T091946Z
LAST-MODIFIED:20221219T091946Z
UID:9710-1673463600-1673467200@intra.ivmglobal.net
SUMMARY:Raisio OBM
DESCRIPTION:
URL:https://intra.ivmglobal.net/event/raisio-obm-7/
LOCATION:Kuninkojan vanha koulu\, Vuorelankatu 9\, Raisio
CATEGORIES:OBM (+NDO),OBM Turku
END:VEVENT
BEGIN:VEVENT
DTSTART;TZID=Europe/Helsinki:20230110T190000
DTEND;TZID=Europe/Helsinki:20230110T200000
DTSTAMP:20260421T141816
CREATED:20221218T102147Z
LAST-MODIFIED:20221218T102147Z
UID:9689-1673377200-1673380800@intra.ivmglobal.net
SUMMARY:Helsinki OBM\, sisäänkäynti Hollolantie 2
DESCRIPTION:
URL:https://intra.ivmglobal.net/event/helsinki-obm-sisaankaynti-hollolantie-2/
LOCATION:Mäkelän koulu (Helsinki)\, Hattulantie 2\, Helsinki\, Finland
CATEGORIES:OBM (+NDO),OBM Helsinki
END:VEVENT
BEGIN:VEVENT
DTSTART;TZID=Europe/Helsinki:20230104T190000
DTEND;TZID=Europe/Helsinki:20230104T200000
DTSTAMP:20260421T141816
CREATED:20221219T091540Z
LAST-MODIFIED:20221219T091540Z
UID:9704-1672858800-1672862400@intra.ivmglobal.net
SUMMARY:Salo OBM
DESCRIPTION:
URL:https://intra.ivmglobal.net/event/salo-obm-13/
LOCATION:Salon VPK talo\, Asemakatu 3\, Salo\, Finland
CATEGORIES:OBM (+NDO),OBM Salo
END:VEVENT
BEGIN:VEVENT
DTSTART;TZID=Europe/Helsinki:20230102T190000
DTEND;TZID=Europe/Helsinki:20230102T200000
DTSTAMP:20260421T141816
CREATED:20221128T152501Z
LAST-MODIFIED:20221128T152501Z
UID:9522-1672686000-1672689600@intra.ivmglobal.net
SUMMARY:Hämeenlinna OBM
DESCRIPTION:
URL:https://intra.ivmglobal.net/event/hameenlinna-obm-6/
LOCATION:ABC Tiiriö\, Paroistetie 1\, Hämeenlinna\, Hämeenlinna\, 13600\, Suomi
CATEGORIES:OBM (+NDO),OBM Hämeenlinna
END:VEVENT
BEGIN:VEVENT
DTSTART;TZID=Europe/Helsinki:20221229T190000
DTEND;TZID=Europe/Helsinki:20221229T200000
DTSTAMP:20260421T141816
CREATED:20220825T181700Z
LAST-MODIFIED:20220825T181700Z
UID:9107-1672340400-1672344000@intra.ivmglobal.net
SUMMARY:Kouvola OBM
DESCRIPTION:
URL:https://intra.ivmglobal.net/event/kouvola-obm-8/
LOCATION:Keltakankaan ABC (Kouvola)\, Hallitie 2\, Kouvola\, 46860
CATEGORIES:OBM (+NDO),OBM Kouvola
END:VEVENT
BEGIN:VEVENT
DTSTART;TZID=Europe/Helsinki:20221228T190000
DTEND;TZID=Europe/Helsinki:20221228T200000
DTSTAMP:20260421T141816
CREATED:20221207T192635Z
LAST-MODIFIED:20221214T074457Z
UID:9602-1672254000-1672257600@intra.ivmglobal.net
SUMMARY:Vaasa OBM - Safiiri Merja Fogde
DESCRIPTION:
URL:https://intra.ivmglobal.net/event/vaasa-obm-safiiri-merja-fogde-4/
LOCATION:ABC Airport (Vaasa)\, Kiitokaari 2\, Vaasa\, 65380
CATEGORIES:OBM (+NDO),OBM Vaasa
END:VEVENT
BEGIN:VEVENT
DTSTART;TZID=Europe/Helsinki:20221228T190000
DTEND;TZID=Europe/Helsinki:20221228T200000
DTSTAMP:20260421T141816
CREATED:20220815T132653Z
LAST-MODIFIED:20221219T091323Z
UID:9049-1672254000-1672257600@intra.ivmglobal.net
SUMMARY:Salo OBM - peruttu
DESCRIPTION:
URL:https://intra.ivmglobal.net/event/salo-obm-12/
LOCATION:Salon VPK talo\, Asemakatu 3\, Salo\, Finland
CATEGORIES:OBM (+NDO),OBM Salo
END:VEVENT
BEGIN:VEVENT
DTSTART;TZID=Europe/Helsinki:20221221T190000
DTEND;TZID=Europe/Helsinki:20221221T200000
DTSTAMP:20260421T141816
CREATED:20220815T135127Z
LAST-MODIFIED:20220815T135127Z
UID:9065-1671649200-1671652800@intra.ivmglobal.net
SUMMARY:Raisio OBM
DESCRIPTION:
URL:https://intra.ivmglobal.net/event/raisio-obm-6/
LOCATION:Kuninkojan vanha koulu\, Vuorelankatu 9\, Raisio
CATEGORIES:OBM (+NDO),OBM Turku
END:VEVENT
BEGIN:VEVENT
DTSTART;TZID=Europe/Helsinki:20221220T180000
DTEND;TZID=Europe/Helsinki:20221220T200000
DTSTAMP:20260421T141816
CREATED:20210914T063559Z
LAST-MODIFIED:20221112T110242Z
UID:7027-1671559200-1671566400@intra.ivmglobal.net
SUMMARY:WOBM
DESCRIPTION:Liity webinaariin linkistä  https://zoom.us/j/364834565 \ntai \nvaihtoehtoisesti voit erikseen käynnistää Zoom-ohjelman ja liittyä koodilla 364 834 565 \nZoom-ohjelmisto kannattaa ladata ja  asentaa jo etukäteen. \nTilaisuus on maksuton!
URL:https://intra.ivmglobal.net/event/wobm-5/
LOCATION:Zoom
CATEGORIES:OBM (+NDO),Zoom
END:VEVENT
END:VCALENDAR