﻿BEGIN:VCALENDAR
VERSION:2.0
PRODID:-//IVM Global - ECPv6.5.2//NONSGML v1.0//EN
CALSCALE:GREGORIAN
METHOD:PUBLISH
X-WR-CALNAME:IVM Global
X-ORIGINAL-URL:https://intra.ivmglobal.net
X-WR-CALDESC:Events for IVM Global
REFRESH-INTERVAL;VALUE=DURATION:PT1H
X-Robots-Tag:noindex
X-PUBLISHED-TTL:PT1H
BEGIN:VTIMEZONE
TZID:Europe/Helsinki
BEGIN:DAYLIGHT
TZOFFSETFROM:+0200
TZOFFSETTO:+0300
TZNAME:EEST
DTSTART:20230326T010000
END:DAYLIGHT
BEGIN:STANDARD
TZOFFSETFROM:+0300
TZOFFSETTO:+0200
TZNAME:EET
DTSTART:20231029T010000
END:STANDARD
END:VTIMEZONE
BEGIN:VEVENT
DTSTART;TZID=Europe/Helsinki:20230322T190000
DTEND;TZID=Europe/Helsinki:20230322T200000
DTSTAMP:20260421T125421
CREATED:20230102T094517Z
LAST-MODIFIED:20230102T094517Z
UID:9742-1679511600-1679515200@intra.ivmglobal.net
SUMMARY:Raisio OBM
DESCRIPTION:
URL:https://intra.ivmglobal.net/event/raisio-obm-10/
LOCATION:Kuninkojan vanha koulu\, Vuorelankatu 9\, Raisio
CATEGORIES:OBM (+NDO),OBM Turku
END:VEVENT
BEGIN:VEVENT
DTSTART;TZID=Europe/Helsinki:20230321T190000
DTEND;TZID=Europe/Helsinki:20230321T200000
DTSTAMP:20260421T125421
CREATED:20230102T093632Z
LAST-MODIFIED:20230102T093632Z
UID:9732-1679425200-1679428800@intra.ivmglobal.net
SUMMARY:Helsinki OBM\, sisäänkäynti Hollolantie 2
DESCRIPTION:
URL:https://intra.ivmglobal.net/event/helsinki-obm-sisaankaynti-hollolantie-2-4/
LOCATION:Mäkelän koulu (Helsinki)\, Hattulantie 2\, Helsinki\, Finland
CATEGORIES:OBM (+NDO),OBM Helsinki
END:VEVENT
BEGIN:VEVENT
DTSTART;TZID=Europe/Helsinki:20230320T190000
DTEND;TZID=Europe/Helsinki:20230320T200000
DTSTAMP:20260421T125421
CREATED:20230309T150037Z
LAST-MODIFIED:20230309T150037Z
UID:9987-1679338800-1679342400@intra.ivmglobal.net
SUMMARY:Tampere OBM
DESCRIPTION:
URL:https://intra.ivmglobal.net/event/tampere-obm-5/
LOCATION:ABC Lahdesjärvi (Tampere)\, Automiehenkatu 39\, Tampere
CATEGORIES:OBM (+NDO),OBM Tampere
END:VEVENT
BEGIN:VEVENT
DTSTART;TZID=Europe/Helsinki:20230320T190000
DTEND;TZID=Europe/Helsinki:20230320T200000
DTSTAMP:20260421T125421
CREATED:20230213T060334Z
LAST-MODIFIED:20230213T060334Z
UID:9850-1679338800-1679342400@intra.ivmglobal.net
SUMMARY:Lahti OBM
DESCRIPTION:
URL:https://intra.ivmglobal.net/event/lahti-obm-10/
LOCATION:Hollolan Matkakeidas\, Hopeakalliontie 2\, Hollola\, 15880\, Suomi
CATEGORIES:OBM (+NDO),OBM Lahti
END:VEVENT
BEGIN:VEVENT
DTSTART;TZID=Europe/Helsinki:20230315T190000
DTEND;TZID=Europe/Helsinki:20230315T200000
DTSTAMP:20260421T125421
CREATED:20230302T091838Z
LAST-MODIFIED:20230302T091838Z
UID:9974-1678906800-1678910400@intra.ivmglobal.net
SUMMARY:Oulu OBM
DESCRIPTION:
URL:https://intra.ivmglobal.net/event/oulu-obm-5/
LOCATION:ABC Tupos\, Tuposkorva 1\, Liminka\, 91910\, Suomi
CATEGORIES:OBM (+NDO),OBM Oulu
END:VEVENT
BEGIN:VEVENT
DTSTART;TZID=Europe/Helsinki:20230315T190000
DTEND;TZID=Europe/Helsinki:20230315T200000
DTSTAMP:20260421T125421
CREATED:20230102T094029Z
LAST-MODIFIED:20230102T094029Z
UID:9736-1678906800-1678910400@intra.ivmglobal.net
SUMMARY:Salo OBM
DESCRIPTION:
URL:https://intra.ivmglobal.net/event/salo-obm-16/
LOCATION:Salon VPK talo\, Asemakatu 3\, Salo\, Finland
CATEGORIES:OBM (+NDO),OBM Salo
END:VEVENT
BEGIN:VEVENT
DTSTART;TZID=Europe/Helsinki:20230313T190000
DTEND;TZID=Europe/Helsinki:20230313T200000
DTSTAMP:20260421T125421
CREATED:20230213T060622Z
LAST-MODIFIED:20230312T095744Z
UID:9854-1678734000-1678737600@intra.ivmglobal.net
SUMMARY:Hämeenlinna OBM - PERUTTU!!
DESCRIPTION:
URL:https://intra.ivmglobal.net/event/hameenlinna-obm-9/
LOCATION:ABC Tiiriö\, Paroistetie 1\, Hämeenlinna\, Hämeenlinna\, 13600\, Suomi
CATEGORIES:OBM (+NDO),OBM Hämeenlinna
END:VEVENT
BEGIN:VEVENT
DTSTART;TZID=Europe/Helsinki:20230309T190000
DTEND;TZID=Europe/Helsinki:20230309T200000
DTSTAMP:20260421T125421
CREATED:20230102T092820Z
LAST-MODIFIED:20230102T092820Z
UID:9726-1678388400-1678392000@intra.ivmglobal.net
SUMMARY:Kouvola OBM
DESCRIPTION:
URL:https://intra.ivmglobal.net/event/kouvola-obm-12/
LOCATION:Keltakankaan ABC (Kouvola)\, Hallitie 2\, Kouvola\, 46860
CATEGORIES:OBM (+NDO),OBM Kouvola
END:VEVENT
BEGIN:VEVENT
DTSTART;TZID=Europe/Helsinki:20230308T190000
DTEND;TZID=Europe/Helsinki:20230308T210000
DTSTAMP:20260421T125421
CREATED:20230102T094402Z
LAST-MODIFIED:20230102T094402Z
UID:9740-1678302000-1678309200@intra.ivmglobal.net
SUMMARY:Raisio OBM+NDO - Smaragdit Jari Hautamäki & Leena Tiitola
DESCRIPTION:
URL:https://intra.ivmglobal.net/event/raisio-obmndo-smaragdit-jari-hautamaki-leena-tiitola/
LOCATION:Kuninkojan vanha koulu\, Vuorelankatu 9\, Raisio
CATEGORIES:OBM (+NDO),OBM Turku
END:VEVENT
BEGIN:VEVENT
DTSTART;TZID=Europe/Helsinki:20230308T190000
DTEND;TZID=Europe/Helsinki:20230308T200000
DTSTAMP:20260421T125421
CREATED:20230127T173701Z
LAST-MODIFIED:20230127T173701Z
UID:9809-1678302000-1678305600@intra.ivmglobal.net
SUMMARY:Vaasa OBM - Smaragdi Irma Lund
DESCRIPTION:
URL:https://intra.ivmglobal.net/event/vaasa-obm-smaragdi-irma-lund-5/
LOCATION:ABC Airport (Vaasa)\, Kiitokaari 2\, Vaasa\, 65380
CATEGORIES:OBM (+NDO),OBM Vaasa
END:VEVENT
BEGIN:VEVENT
DTSTART;TZID=Europe/Helsinki:20230307T190000
DTEND;TZID=Europe/Helsinki:20230307T210000
DTSTAMP:20260421T125421
CREATED:20230102T093358Z
LAST-MODIFIED:20230302T162745Z
UID:9730-1678215600-1678222800@intra.ivmglobal.net
SUMMARY:Helsinki OBM+NDO\, - Smaragdi Terhi Laine\, sisäänkäynti Hollolantie 2
DESCRIPTION:
URL:https://intra.ivmglobal.net/event/helsinki-obmndo-sisaankaynti-hollolantie-2/
LOCATION:Mäkelän koulu (Helsinki)\, Hattulantie 2\, Helsinki\, Finland
CATEGORIES:OBM (+NDO),OBM Helsinki
END:VEVENT
BEGIN:VEVENT
DTSTART;TZID=Europe/Helsinki:20230306T190000
DTEND;TZID=Europe/Helsinki:20230306T200000
DTSTAMP:20260421T125421
CREATED:20230228T162444Z
LAST-MODIFIED:20230228T162444Z
UID:9970-1678129200-1678132800@intra.ivmglobal.net
SUMMARY:Tampere OBM
DESCRIPTION:
URL:https://intra.ivmglobal.net/event/tampere-obm-4/
LOCATION:ABC Lahdesjärvi (Tampere)\, Automiehenkatu 39\, Tampere
CATEGORIES:OBM (+NDO),OBM Tampere
END:VEVENT
BEGIN:VEVENT
DTSTART;TZID=Europe/Helsinki:20230301T190000
DTEND;TZID=Europe/Helsinki:20230301T210000
DTSTAMP:20260421T125421
CREATED:20230102T093907Z
LAST-MODIFIED:20230102T093907Z
UID:9734-1677697200-1677704400@intra.ivmglobal.net
SUMMARY:Salo OBM+NDO - Smaragdit Jari Hautamäki & Leena Tiitola
DESCRIPTION:
URL:https://intra.ivmglobal.net/event/salo-obmndo-smaragdit-jari-hautamaki-leena-tiitola-3/
LOCATION:Salon VPK talo\, Asemakatu 3\, Salo\, Finland
CATEGORIES:OBM (+NDO),OBM Salo
END:VEVENT
BEGIN:VEVENT
DTSTART;TZID=Europe/Helsinki:20230227T190000
DTEND;TZID=Europe/Helsinki:20230227T200000
DTSTAMP:20260421T125421
CREATED:20230213T060510Z
LAST-MODIFIED:20230213T061050Z
UID:9852-1677524400-1677528000@intra.ivmglobal.net
SUMMARY:Hämeenlinna OBM - Huom! Peruttu
DESCRIPTION:
URL:https://intra.ivmglobal.net/event/hameenlinna-obm-huom-peruttu/
CATEGORIES:OBM (+NDO),OBM Hämeenlinna
END:VEVENT
BEGIN:VEVENT
DTSTART;TZID=Europe/Helsinki:20230223T190000
DTEND;TZID=Europe/Helsinki:20230223T200000
DTSTAMP:20260421T125421
CREATED:20221218T183545Z
LAST-MODIFIED:20230212T100133Z
UID:9701-1677178800-1677182400@intra.ivmglobal.net
SUMMARY:Kouvola OBM
DESCRIPTION:
URL:https://intra.ivmglobal.net/event/kouvola-obm-11/
LOCATION:Keltakankaan ABC (Kouvola)\, Hallitie 2\, Kouvola\, 46860
CATEGORIES:OBM (+NDO),OBM Kouvola
END:VEVENT
BEGIN:VEVENT
DTSTART;TZID=Europe/Helsinki:20230222T190000
DTEND;TZID=Europe/Helsinki:20230222T210000
DTSTAMP:20260421T125421
CREATED:20230127T173524Z
LAST-MODIFIED:20230127T173524Z
UID:9807-1677092400-1677099600@intra.ivmglobal.net
SUMMARY:Vaasa OBM+NDO - Safiiri Merja Fogde
DESCRIPTION:
URL:https://intra.ivmglobal.net/event/vaasa-obmndo-safiiri-merja-fogde-2/
LOCATION:ABC Airport (Vaasa)\, Kiitokaari 2\, Vaasa\, 65380
CATEGORIES:OBM (+NDO),OBM Vaasa
END:VEVENT
BEGIN:VEVENT
DTSTART;TZID=Europe/Helsinki:20230222T190000
DTEND;TZID=Europe/Helsinki:20230222T200000
DTSTAMP:20260421T125421
CREATED:20221219T092334Z
LAST-MODIFIED:20221219T092334Z
UID:9716-1677092400-1677096000@intra.ivmglobal.net
SUMMARY:Raisio OBM
DESCRIPTION:
URL:https://intra.ivmglobal.net/event/raisio-obm-9/
LOCATION:Kuninkojan vanha koulu\, Vuorelankatu 9\, Raisio
CATEGORIES:OBM (+NDO),OBM Turku
END:VEVENT
BEGIN:VEVENT
DTSTART;TZID=Europe/Helsinki:20230221T190000
DTEND;TZID=Europe/Helsinki:20230221T200000
DTSTAMP:20260421T125421
CREATED:20221218T102453Z
LAST-MODIFIED:20221218T102453Z
UID:9693-1677006000-1677009600@intra.ivmglobal.net
SUMMARY:Helsinki OBM\, sisäänkäynti Hollolantie 2
DESCRIPTION:
URL:https://intra.ivmglobal.net/event/helsinki-obm-sisaankaynti-hollolantie-2-3/
LOCATION:Mäkelän koulu (Helsinki)\, Hattulantie 2\, Helsinki\, Finland
CATEGORIES:OBM (+NDO),OBM Helsinki
END:VEVENT
BEGIN:VEVENT
DTSTART;TZID=Europe/Helsinki:20230220T190000
DTEND;TZID=Europe/Helsinki:20230220T210000
DTSTAMP:20260421T125421
CREATED:20230214T143547Z
LAST-MODIFIED:20230214T143547Z
UID:9866-1676919600-1676926800@intra.ivmglobal.net
SUMMARY:Tampere OBM+NDO - Smaragdi Jari Hautamäki
DESCRIPTION:
URL:https://intra.ivmglobal.net/event/tampere-obmndo-smaragdi-jari-hautamaki-2/
LOCATION:ABC Lahdesjärvi (Tampere)\, Automiehenkatu 39\, Tampere
CATEGORIES:OBM (+NDO),OBM Tampere
END:VEVENT
BEGIN:VEVENT
DTSTART;TZID=Europe/Helsinki:20230220T190000
DTEND;TZID=Europe/Helsinki:20230220T210000
DTSTAMP:20260421T125421
CREATED:20230212T095737Z
LAST-MODIFIED:20230212T095737Z
UID:9841-1676919600-1676926800@intra.ivmglobal.net
SUMMARY:Lahti OBM+NDO - Smaragdit Anne & Janne Kekoni
DESCRIPTION:
URL:https://intra.ivmglobal.net/event/lahti-obmndo-smaragdit-anne-janne-kekoni-2/
LOCATION:Hollolan Matkakeidas\, Hopeakalliontie 2\, Hollola\, 15880\, Suomi
CATEGORIES:OBM (+NDO),OBM Lahti
END:VEVENT
BEGIN:VEVENT
DTSTART;TZID=Europe/Helsinki:20230215T190000
DTEND;TZID=Europe/Helsinki:20230215T210000
DTSTAMP:20260421T125421
CREATED:20230119T085306Z
LAST-MODIFIED:20230119T085306Z
UID:9779-1676487600-1676494800@intra.ivmglobal.net
SUMMARY:Oulu OBM+NDO - Smaragdi Irma Lund\, paikka: ABC Tupos
DESCRIPTION:
URL:https://intra.ivmglobal.net/event/oulu-obmndo-smaragdi-irma-lund-paikka-abc-tupos/
LOCATION:ABC Tupos\, Tuposkorva 1\, Liminka\, 91910\, Suomi
CATEGORIES:OBM (+NDO),OBM Oulu
END:VEVENT
BEGIN:VEVENT
DTSTART;TZID=Europe/Helsinki:20230215T190000
DTEND;TZID=Europe/Helsinki:20230215T200000
DTSTAMP:20260421T125421
CREATED:20221219T091817Z
LAST-MODIFIED:20221219T091817Z
UID:9708-1676487600-1676491200@intra.ivmglobal.net
SUMMARY:Salo OBM
DESCRIPTION:
URL:https://intra.ivmglobal.net/event/salo-obm-15/
LOCATION:Salon VPK talo\, Asemakatu 3\, Salo\, Finland
CATEGORIES:OBM (+NDO),OBM Salo
END:VEVENT
BEGIN:VEVENT
DTSTART;TZID=Europe/Helsinki:20230213T190000
DTEND;TZID=Europe/Helsinki:20230213T200000
DTSTAMP:20260421T125421
CREATED:20230121T072314Z
LAST-MODIFIED:20230121T072314Z
UID:9796-1676314800-1676318400@intra.ivmglobal.net
SUMMARY:Hämeenlinna OBM
DESCRIPTION:
URL:https://intra.ivmglobal.net/event/hameenlinna-obm-8/
LOCATION:ABC Tiiriö\, Paroistetie 1\, Hämeenlinna\, Hämeenlinna\, 13600\, Suomi
CATEGORIES:OBM (+NDO),OBM Hämeenlinna
END:VEVENT
BEGIN:VEVENT
DTSTART;TZID=Europe/Helsinki:20230209T190000
DTEND;TZID=Europe/Helsinki:20230209T200000
DTSTAMP:20260421T125421
CREATED:20221218T183440Z
LAST-MODIFIED:20230201T055754Z
UID:9699-1675969200-1675972800@intra.ivmglobal.net
SUMMARY:Kouvola OBM - Timantit Pia & Harri Pentti
DESCRIPTION:
URL:https://intra.ivmglobal.net/event/kouvola-obm-10/
LOCATION:Keltakankaan ABC (Kouvola)\, Hallitie 2\, Kouvola\, 46860
CATEGORIES:OBM (+NDO),OBM Kouvola
END:VEVENT
BEGIN:VEVENT
DTSTART;TZID=Europe/Helsinki:20230208T190000
DTEND;TZID=Europe/Helsinki:20230208T200000
DTSTAMP:20260421T125421
CREATED:20230127T173348Z
LAST-MODIFIED:20230127T173348Z
UID:9805-1675882800-1675886400@intra.ivmglobal.net
SUMMARY:Vaasa OBM - Smaragdi Irma Lund
DESCRIPTION:
URL:https://intra.ivmglobal.net/event/vaasa-obm-smaragdi-irma-lund-4/
LOCATION:ABC Airport (Vaasa)\, Kiitokaari 2\, Vaasa\, 65380
CATEGORIES:OBM (+NDO),OBM Vaasa
END:VEVENT
BEGIN:VEVENT
DTSTART;TZID=Europe/Helsinki:20230208T190000
DTEND;TZID=Europe/Helsinki:20230208T200000
DTSTAMP:20260421T125421
CREATED:20221219T092228Z
LAST-MODIFIED:20221219T092228Z
UID:9714-1675882800-1675886400@intra.ivmglobal.net
SUMMARY:Raisio OBM
DESCRIPTION:
URL:https://intra.ivmglobal.net/event/raisio-obm-8/
LOCATION:Kuninkojan vanha koulu\, Vuorelankatu 9\, Raisio
CATEGORIES:OBM (+NDO),OBM Turku
END:VEVENT
BEGIN:VEVENT
DTSTART;TZID=Europe/Helsinki:20230207T190000
DTEND;TZID=Europe/Helsinki:20230207T200000
DTSTAMP:20260421T125421
CREATED:20221218T102317Z
LAST-MODIFIED:20221218T102317Z
UID:9691-1675796400-1675800000@intra.ivmglobal.net
SUMMARY:Helsinki OBM\, sisäänkäynti Hollolantie 2
DESCRIPTION:
URL:https://intra.ivmglobal.net/event/helsinki-obm-sisaankaynti-hollolantie-2-2/
LOCATION:Mäkelän koulu (Helsinki)\, Hattulantie 2\, Helsinki\, Finland
CATEGORIES:OBM (+NDO),OBM Helsinki
END:VEVENT
BEGIN:VEVENT
DTSTART;TZID=Europe/Helsinki:20230206T190000
DTEND;TZID=Europe/Helsinki:20230206T200000
DTSTAMP:20260421T125421
CREATED:20230121T071928Z
LAST-MODIFIED:20230121T071928Z
UID:9792-1675710000-1675713600@intra.ivmglobal.net
SUMMARY:Lahti OBM
DESCRIPTION:
URL:https://intra.ivmglobal.net/event/lahti-obm-8/
LOCATION:Hollolan Matkakeidas\, Hopeakalliontie 2\, Hollola\, 15880\, Suomi
CATEGORIES:OBM (+NDO),OBM Lahti
END:VEVENT
BEGIN:VEVENT
DTSTART;TZID=Europe/Helsinki:20230201T190000
DTEND;TZID=Europe/Helsinki:20230201T200000
DTSTAMP:20260421T125421
CREATED:20221219T091702Z
LAST-MODIFIED:20221219T091702Z
UID:9706-1675278000-1675281600@intra.ivmglobal.net
SUMMARY:Salo OBM
DESCRIPTION:
URL:https://intra.ivmglobal.net/event/salo-obm-14/
LOCATION:Salon VPK talo\, Asemakatu 3\, Salo\, Finland
CATEGORIES:OBM (+NDO),OBM Salo
END:VEVENT
BEGIN:VEVENT
DTSTART;TZID=Europe/Helsinki:20230130T190000
DTEND;TZID=Europe/Helsinki:20230130T200000
DTSTAMP:20260421T125421
CREATED:20230123T154139Z
LAST-MODIFIED:20230123T154304Z
UID:9802-1675105200-1675108800@intra.ivmglobal.net
SUMMARY:Tampere OBM - Smaragdit Jari Hautamäki & Leena Tiitola
DESCRIPTION:
URL:https://intra.ivmglobal.net/event/tampere-obm-smaragdit-jari-hautamaki-leena-tiitola/
LOCATION:ABC Lahdesjärvi (Tampere)\, Automiehenkatu 39\, Tampere
CATEGORIES:OBM (+NDO),OBM Tampere
END:VEVENT
END:VCALENDAR