﻿BEGIN:VCALENDAR
VERSION:2.0
PRODID:-//IVM Global - ECPv6.5.2//NONSGML v1.0//EN
CALSCALE:GREGORIAN
METHOD:PUBLISH
X-WR-CALNAME:IVM Global
X-ORIGINAL-URL:https://intra.ivmglobal.net
X-WR-CALDESC:Events for IVM Global
REFRESH-INTERVAL;VALUE=DURATION:PT1H
X-Robots-Tag:noindex
X-PUBLISHED-TTL:PT1H
BEGIN:VTIMEZONE
TZID:Europe/Helsinki
BEGIN:DAYLIGHT
TZOFFSETFROM:+0200
TZOFFSETTO:+0300
TZNAME:EEST
DTSTART:20220327T010000
END:DAYLIGHT
BEGIN:STANDARD
TZOFFSETFROM:+0300
TZOFFSETTO:+0200
TZNAME:EET
DTSTART:20221030T010000
END:STANDARD
END:VTIMEZONE
BEGIN:VEVENT
DTSTART;TZID=Europe/Helsinki:20220810T190000
DTEND;TZID=Europe/Helsinki:20220810T200000
DTSTAMP:20260421T154301
CREATED:20220804T080441Z
LAST-MODIFIED:20220804T080806Z
UID:9010-1660158000-1660161600@intra.ivmglobal.net
SUMMARY:OBM Vaasa - Safiiri Merja Fogde
DESCRIPTION:
URL:https://intra.ivmglobal.net/event/vaasa-obm-safiiri-merja-fogde/
LOCATION:ABC Airport (Vaasa)\, Kiitokaari 2\, Vaasa\, 65380
CATEGORIES:OBM (+NDO),OBM Vaasa
END:VEVENT
END:VCALENDAR