﻿BEGIN:VCALENDAR
VERSION:2.0
PRODID:-//IVM Global - ECPv6.5.2//NONSGML v1.0//EN
CALSCALE:GREGORIAN
METHOD:PUBLISH
X-WR-CALNAME:IVM Global
X-ORIGINAL-URL:https://intra.ivmglobal.net
X-WR-CALDESC:Events for IVM Global
REFRESH-INTERVAL;VALUE=DURATION:PT1H
X-Robots-Tag:noindex
X-PUBLISHED-TTL:PT1H
BEGIN:VTIMEZONE
TZID:Europe/Helsinki
BEGIN:DAYLIGHT
TZOFFSETFROM:+0200
TZOFFSETTO:+0300
TZNAME:EEST
DTSTART:20250330T010000
END:DAYLIGHT
BEGIN:STANDARD
TZOFFSETFROM:+0300
TZOFFSETTO:+0200
TZNAME:EET
DTSTART:20251026T010000
END:STANDARD
END:VTIMEZONE
BEGIN:VEVENT
DTSTART;TZID=Europe/Helsinki:20250709T190000
DTEND;TZID=Europe/Helsinki:20250709T200000
DTSTAMP:20260421T113823
CREATED:20250417T185832Z
LAST-MODIFIED:20250417T185832Z
UID:12931-1752087600-1752091200@intra.ivmglobal.net
SUMMARY:Raisio OBM
DESCRIPTION:
URL:https://intra.ivmglobal.net/event/raisio-obm-37/
LOCATION:ABC Raisio\, Piilipuunkatu 2\, Piilipuunkatu 2\, Raisio\, Suomi
CATEGORIES:OBM (+NDO),OBM Turku
END:VEVENT
BEGIN:VEVENT
DTSTART;TZID=Europe/Helsinki:20250723T190000
DTEND;TZID=Europe/Helsinki:20250723T200000
DTSTAMP:20260421T113823
CREATED:20250417T190011Z
LAST-MODIFIED:20250417T190011Z
UID:12933-1753297200-1753300800@intra.ivmglobal.net
SUMMARY:Raisio OBM
DESCRIPTION:
URL:https://intra.ivmglobal.net/event/raisio-obm-38/
LOCATION:ABC Raisio\, Piilipuunkatu 2\, Piilipuunkatu 2\, Raisio\, Suomi
CATEGORIES:OBM (+NDO),OBM Turku
END:VEVENT
BEGIN:VEVENT
DTSTART;TZID=Europe/Helsinki:20250730T190000
DTEND;TZID=Europe/Helsinki:20250730T200000
DTSTAMP:20260421T113823
CREATED:20250624T165823Z
LAST-MODIFIED:20250725T063837Z
UID:13043-1753902000-1753905600@intra.ivmglobal.net
SUMMARY:Raisio OBM - Smaragdi Terhi Laine
DESCRIPTION:
URL:https://intra.ivmglobal.net/event/raisio-obmndo/
LOCATION:ABC Raisio\, Piilipuunkatu 2\, Piilipuunkatu 2\, Raisio\, Suomi
CATEGORIES:OBM (+NDO),OBM Turku
END:VEVENT
END:VCALENDAR