﻿BEGIN:VCALENDAR
VERSION:2.0
PRODID:-//IVM Global - ECPv6.5.2//NONSGML v1.0//EN
CALSCALE:GREGORIAN
METHOD:PUBLISH
X-WR-CALNAME:IVM Global
X-ORIGINAL-URL:https://intra.ivmglobal.net
X-WR-CALDESC:Events for IVM Global
REFRESH-INTERVAL;VALUE=DURATION:PT1H
X-Robots-Tag:noindex
X-PUBLISHED-TTL:PT1H
BEGIN:VTIMEZONE
TZID:Europe/Helsinki
BEGIN:DAYLIGHT
TZOFFSETFROM:+0200
TZOFFSETTO:+0300
TZNAME:EEST
DTSTART:20240331T010000
END:DAYLIGHT
BEGIN:STANDARD
TZOFFSETFROM:+0300
TZOFFSETTO:+0200
TZNAME:EET
DTSTART:20241027T010000
END:STANDARD
END:VTIMEZONE
BEGIN:VEVENT
DTSTART;TZID=Europe/Helsinki:20240501T190000
DTEND;TZID=Europe/Helsinki:20240501T200000
DTSTAMP:20260420T091116
CREATED:20240331T083651Z
LAST-MODIFIED:20240331T084541Z
UID:11394-1714590000-1714593600@intra.ivmglobal.net
SUMMARY:Turku / Raisio - peruttu
DESCRIPTION:
URL:https://intra.ivmglobal.net/event/raisio-peruttu/
LOCATION:Kuninkojan vanha koulu\, Vuorelankatu 9\, Raisio
CATEGORIES:OBM (+NDO),OBM Turku
END:VEVENT
BEGIN:VEVENT
DTSTART;TZID=Europe/Helsinki:20240515T190000
DTEND;TZID=Europe/Helsinki:20240515T210000
DTSTAMP:20260420T091116
CREATED:20240331T083823Z
LAST-MODIFIED:20240331T084454Z
UID:11396-1715799600-1715806800@intra.ivmglobal.net
SUMMARY:Turku / Raisio OBM+NDO - Safiiri Ansku Micklin
DESCRIPTION:
URL:https://intra.ivmglobal.net/event/raisio-obmndo-safiiri-ansku-micklin-4/
LOCATION:Kuninkojan vanha koulu\, Vuorelankatu 9\, Raisio
CATEGORIES:OBM (+NDO),OBM Turku
END:VEVENT
BEGIN:VEVENT
DTSTART;TZID=Europe/Helsinki:20240529T190000
DTEND;TZID=Europe/Helsinki:20240529T200000
DTSTAMP:20260420T091116
CREATED:20240331T083934Z
LAST-MODIFIED:20240331T084300Z
UID:11398-1717009200-1717012800@intra.ivmglobal.net
SUMMARY:Turku / Raisio OBM
DESCRIPTION:
URL:https://intra.ivmglobal.net/event/raisio-obm-27/
LOCATION:Kuninkojan vanha koulu\, Vuorelankatu 9\, Raisio
CATEGORIES:OBM (+NDO),OBM Turku
END:VEVENT
END:VCALENDAR