﻿BEGIN:VCALENDAR
VERSION:2.0
PRODID:-//IVM Global - ECPv6.5.2//NONSGML v1.0//EN
CALSCALE:GREGORIAN
METHOD:PUBLISH
X-ORIGINAL-URL:https://intra.ivmglobal.net
X-WR-CALDESC:Events for IVM Global
REFRESH-INTERVAL;VALUE=DURATION:PT1H
X-Robots-Tag:noindex
X-PUBLISHED-TTL:PT1H
BEGIN:VTIMEZONE
TZID:Europe/Helsinki
BEGIN:DAYLIGHT
TZOFFSETFROM:+0200
TZOFFSETTO:+0300
TZNAME:EEST
DTSTART:20240331T010000
END:DAYLIGHT
BEGIN:STANDARD
TZOFFSETFROM:+0300
TZOFFSETTO:+0200
TZNAME:EET
DTSTART:20241027T010000
END:STANDARD
END:VTIMEZONE
BEGIN:VEVENT
DTSTART;TZID=Europe/Helsinki:20240130T190000
DTEND;TZID=Europe/Helsinki:20240130T210000
DTSTAMP:20260421T184052
CREATED:20240120T125623Z
LAST-MODIFIED:20240120T125623Z
UID:11115-1706641200-1706648400@intra.ivmglobal.net
SUMMARY:Tampere OBM+NDO - Smaragdi Jari Hautamäki
DESCRIPTION:
URL:https://intra.ivmglobal.net/event/tampere-obmndo-smaragdi-jari-hautamaki-3/
LOCATION:ABC Lahdesjärvi (Tampere)\, Automiehenkatu 39\, Tampere
CATEGORIES:OBM (+NDO),OBM Tampere
END:VEVENT
END:VCALENDAR