﻿BEGIN:VCALENDAR
VERSION:2.0
PRODID:-//IVM Global - ECPv6.5.2//NONSGML v1.0//EN
CALSCALE:GREGORIAN
METHOD:PUBLISH
X-WR-CALNAME:IVM Global
X-ORIGINAL-URL:https://intra.ivmglobal.net
X-WR-CALDESC:Events for IVM Global
REFRESH-INTERVAL;VALUE=DURATION:PT1H
X-Robots-Tag:noindex
X-PUBLISHED-TTL:PT1H
BEGIN:VTIMEZONE
TZID:Europe/Helsinki
BEGIN:DAYLIGHT
TZOFFSETFROM:+0200
TZOFFSETTO:+0300
TZNAME:EEST
DTSTART:20230326T010000
END:DAYLIGHT
BEGIN:STANDARD
TZOFFSETFROM:+0300
TZOFFSETTO:+0200
TZNAME:EET
DTSTART:20231029T010000
END:STANDARD
END:VTIMEZONE
BEGIN:VEVENT
DTSTART;TZID=Europe/Helsinki:20231107T190000
DTEND;TZID=Europe/Helsinki:20231107T200000
DTSTAMP:20260421T213006
CREATED:20231029T192125Z
LAST-MODIFIED:20231029T192125Z
UID:10836-1699383600-1699387200@intra.ivmglobal.net
SUMMARY:Tampere OBM
DESCRIPTION:
URL:https://intra.ivmglobal.net/event/tampere-obm-14/
LOCATION:ABC Lahdesjärvi (Tampere)\, Automiehenkatu 39\, Tampere
CATEGORIES:OBM (+NDO),OBM Tampere
END:VEVENT
BEGIN:VEVENT
DTSTART;TZID=Europe/Helsinki:20231121T190000
DTEND;TZID=Europe/Helsinki:20231121T200000
DTSTAMP:20260421T213006
CREATED:20231109T164247Z
LAST-MODIFIED:20231109T164247Z
UID:10849-1700593200-1700596800@intra.ivmglobal.net
SUMMARY:Tampere OBM
DESCRIPTION:
URL:https://intra.ivmglobal.net/event/tampere-obm-15/
LOCATION:ABC Lahdesjärvi (Tampere)\, Automiehenkatu 39\, Tampere
CATEGORIES:OBM (+NDO),OBM Tampere
END:VEVENT
END:VCALENDAR