﻿BEGIN:VCALENDAR
VERSION:2.0
PRODID:-//IVM Global - ECPv6.5.2//NONSGML v1.0//EN
CALSCALE:GREGORIAN
METHOD:PUBLISH
X-ORIGINAL-URL:https://intra.ivmglobal.net
X-WR-CALDESC:Events for IVM Global
REFRESH-INTERVAL;VALUE=DURATION:PT1H
X-Robots-Tag:noindex
X-PUBLISHED-TTL:PT1H
BEGIN:VTIMEZONE
TZID:Europe/Helsinki
BEGIN:DAYLIGHT
TZOFFSETFROM:+0200
TZOFFSETTO:+0300
TZNAME:EEST
DTSTART:20250330T010000
END:DAYLIGHT
BEGIN:STANDARD
TZOFFSETFROM:+0300
TZOFFSETTO:+0200
TZNAME:EET
DTSTART:20251026T010000
END:STANDARD
END:VTIMEZONE
BEGIN:VEVENT
DTSTART;TZID=Europe/Helsinki:20250101T190000
DTEND;TZID=Europe/Helsinki:20250101T200000
DTSTAMP:20260421T142801
CREATED:20241203T155543Z
LAST-MODIFIED:20241203T155543Z
UID:12378-1735758000-1735761600@intra.ivmglobal.net
SUMMARY:Salo OBM - peruttu
DESCRIPTION:
URL:https://intra.ivmglobal.net/event/salo-obm-peruttu-2/
CATEGORIES:OBM (+NDO),OBM Salo
END:VEVENT
BEGIN:VEVENT
DTSTART;TZID=Europe/Helsinki:20250115T080000
DTEND;TZID=Europe/Helsinki:20250115T170000
DTSTAMP:20260421T142801
CREATED:20241203T155854Z
LAST-MODIFIED:20241203T155854Z
UID:12382-1736928000-1736960400@intra.ivmglobal.net
SUMMARY:Salo OBM - peruttu
DESCRIPTION:
URL:https://intra.ivmglobal.net/event/salo-obm-peruttu-4/
CATEGORIES:OBM (+NDO),OBM Salo
END:VEVENT
BEGIN:VEVENT
DTSTART;TZID=Europe/Helsinki:20250122T190000
DTEND;TZID=Europe/Helsinki:20250122T220000
DTSTAMP:20260421T142801
CREATED:20241120T071743Z
LAST-MODIFIED:20250117T124942Z
UID:12352-1737572400-1737583200@intra.ivmglobal.net
SUMMARY:Salo OBM+NDO - Timantit Vaula & Ian McDermott
DESCRIPTION:
URL:https://intra.ivmglobal.net/event/salo-obmndo-timantit-vaula-ian-mcdermott/
LOCATION:Salon VPK talo\, Asemakatu 3\, Salo\, Finland
CATEGORIES:OBM (+NDO),OBM Salo
END:VEVENT
BEGIN:VEVENT
DTSTART;TZID=Europe/Helsinki:20250129T080000
DTEND;TZID=Europe/Helsinki:20250129T170000
DTSTAMP:20260421T142801
CREATED:20241203T160006Z
LAST-MODIFIED:20241203T160006Z
UID:12384-1738137600-1738170000@intra.ivmglobal.net
SUMMARY:Salo OBM - peruttu
DESCRIPTION:
URL:https://intra.ivmglobal.net/event/salo-obm-peruttu-5/
CATEGORIES:OBM (+NDO),OBM Salo
END:VEVENT
END:VCALENDAR