﻿BEGIN:VCALENDAR
VERSION:2.0
PRODID:-//IVM Global - ECPv6.5.2//NONSGML v1.0//EN
CALSCALE:GREGORIAN
METHOD:PUBLISH
X-WR-CALNAME:IVM Global
X-ORIGINAL-URL:https://intra.ivmglobal.net
X-WR-CALDESC:Events for IVM Global
REFRESH-INTERVAL;VALUE=DURATION:PT1H
X-Robots-Tag:noindex
X-PUBLISHED-TTL:PT1H
BEGIN:VTIMEZONE
TZID:Europe/Helsinki
BEGIN:DAYLIGHT
TZOFFSETFROM:+0200
TZOFFSETTO:+0300
TZNAME:EEST
DTSTART:20240331T010000
END:DAYLIGHT
BEGIN:STANDARD
TZOFFSETFROM:+0300
TZOFFSETTO:+0200
TZNAME:EET
DTSTART:20241027T010000
END:STANDARD
END:VTIMEZONE
BEGIN:VEVENT
DTSTART;TZID=Europe/Helsinki:20240304T190000
DTEND;TZID=Europe/Helsinki:20240304T210000
DTSTAMP:20260419T205856
CREATED:20240127T095254Z
LAST-MODIFIED:20240127T095254Z
UID:11144-1709578800-1709586000@intra.ivmglobal.net
SUMMARY:Lahti OBM+NDO - Smaragdit Anne & Janne Kekoni
DESCRIPTION:
URL:https://intra.ivmglobal.net/event/lahti-obmndo-smaragdit-anne-janne-kekoni-4/
LOCATION:Hollolan Matkakeidas\, Hopeakalliontie 2\, Hollola\, 15880\, Suomi
CATEGORIES:OBM (+NDO),OBM Lahti
END:VEVENT
END:VCALENDAR