﻿BEGIN:VCALENDAR
VERSION:2.0
PRODID:-//IVM Global - ECPv6.5.2//NONSGML v1.0//EN
CALSCALE:GREGORIAN
METHOD:PUBLISH
X-WR-CALNAME:IVM Global
X-ORIGINAL-URL:https://intra.ivmglobal.net
X-WR-CALDESC:Events for IVM Global
REFRESH-INTERVAL;VALUE=DURATION:PT1H
X-Robots-Tag:noindex
X-PUBLISHED-TTL:PT1H
BEGIN:VTIMEZONE
TZID:Europe/Helsinki
BEGIN:DAYLIGHT
TZOFFSETFROM:+0200
TZOFFSETTO:+0300
TZNAME:EEST
DTSTART:20240331T010000
END:DAYLIGHT
BEGIN:STANDARD
TZOFFSETFROM:+0300
TZOFFSETTO:+0200
TZNAME:EET
DTSTART:20241027T010000
END:STANDARD
END:VTIMEZONE
BEGIN:VEVENT
DTSTART;TZID=Europe/Helsinki:20240108T190000
DTEND;TZID=Europe/Helsinki:20240108T200000
DTSTAMP:20260419T224819
CREATED:20231016T060229Z
LAST-MODIFIED:20240107T104103Z
UID:10810-1704740400-1704744000@intra.ivmglobal.net
SUMMARY:Lahti OBM
DESCRIPTION:
URL:https://intra.ivmglobal.net/event/lahti-obm-18/
LOCATION:Hollolan Matkakeidas\, Hopeakalliontie 2\, Hollola\, 15880\, Suomi
CATEGORIES:OBM (+NDO),OBM Lahti
END:VEVENT
BEGIN:VEVENT
DTSTART;TZID=Europe/Helsinki:20240122T190000
DTEND;TZID=Europe/Helsinki:20240122T200000
DTSTAMP:20260419T224819
CREATED:20230901T052916Z
LAST-MODIFIED:20240120T135948Z
UID:10658-1705950000-1705953600@intra.ivmglobal.net
SUMMARY:Lahti OBM - peruttu\, Vaula Helsingissä 23.1.
DESCRIPTION:
URL:https://intra.ivmglobal.net/event/lahti-obm-peruttu-vaula-helsinki-03-10/
LOCATION:Hollolan Matkakeidas\, Hopeakalliontie 2\, Hollola\, 15880\, Suomi
CATEGORIES:OBM (+NDO),OBM Lahti
END:VEVENT
END:VCALENDAR