﻿BEGIN:VCALENDAR
VERSION:2.0
PRODID:-//IVM Global - ECPv6.5.2//NONSGML v1.0//EN
CALSCALE:GREGORIAN
METHOD:PUBLISH
X-ORIGINAL-URL:https://intra.ivmglobal.net
X-WR-CALDESC:Events for IVM Global
REFRESH-INTERVAL;VALUE=DURATION:PT1H
X-Robots-Tag:noindex
X-PUBLISHED-TTL:PT1H
BEGIN:VTIMEZONE
TZID:Europe/Helsinki
BEGIN:DAYLIGHT
TZOFFSETFROM:+0200
TZOFFSETTO:+0300
TZNAME:EEST
DTSTART:20230326T010000
END:DAYLIGHT
BEGIN:STANDARD
TZOFFSETFROM:+0300
TZOFFSETTO:+0200
TZNAME:EET
DTSTART:20231029T010000
END:STANDARD
END:VTIMEZONE
BEGIN:VEVENT
DTSTART;TZID=Europe/Helsinki:20230807T190000
DTEND;TZID=Europe/Helsinki:20230807T203000
DTSTAMP:20260420T061618
CREATED:20230730T202847Z
LAST-MODIFIED:20230807T142433Z
UID:10525-1691434800-1691440200@intra.ivmglobal.net
SUMMARY:Lahti OBM
DESCRIPTION:
URL:https://intra.ivmglobal.net/event/lahti-obmndo/
LOCATION:Hollolan Matkakeidas\, Hopeakalliontie 2\, Hollola\, 15880\, Suomi
CATEGORIES:OBM (+NDO),OBM Lahti
END:VEVENT
BEGIN:VEVENT
DTSTART;TZID=Europe/Helsinki:20230821T190000
DTEND;TZID=Europe/Helsinki:20230821T200000
DTSTAMP:20260420T061618
CREATED:20230730T202954Z
LAST-MODIFIED:20230730T202954Z
UID:10527-1692644400-1692648000@intra.ivmglobal.net
SUMMARY:Lahti OBM - peruttu\, Ian Hki 22.08.
DESCRIPTION:
URL:https://intra.ivmglobal.net/event/lahti-obm-peruttu-ian-hki-22-08/
CATEGORIES:OBM (+NDO),OBM Lahti
END:VEVENT
END:VCALENDAR