﻿BEGIN:VCALENDAR
VERSION:2.0
PRODID:-//IVM Global - ECPv6.5.2//NONSGML v1.0//EN
CALSCALE:GREGORIAN
METHOD:PUBLISH
X-ORIGINAL-URL:https://intra.ivmglobal.net
X-WR-CALDESC:Events for IVM Global
REFRESH-INTERVAL;VALUE=DURATION:PT1H
X-Robots-Tag:noindex
X-PUBLISHED-TTL:PT1H
BEGIN:VTIMEZONE
TZID:Europe/Helsinki
BEGIN:DAYLIGHT
TZOFFSETFROM:+0200
TZOFFSETTO:+0300
TZNAME:EEST
DTSTART:20230326T010000
END:DAYLIGHT
BEGIN:STANDARD
TZOFFSETFROM:+0300
TZOFFSETTO:+0200
TZNAME:EET
DTSTART:20231029T010000
END:STANDARD
END:VTIMEZONE
BEGIN:VEVENT
DTSTART;TZID=Europe/Helsinki:20230612T190000
DTEND;TZID=Europe/Helsinki:20230612T200000
DTSTAMP:20260420T091418
CREATED:20230312T204138Z
LAST-MODIFIED:20230611T202040Z
UID:10000-1686596400-1686600000@intra.ivmglobal.net
SUMMARY:Lahti OBM - Peruttu (Vaula tiistaina Helsingissä)
DESCRIPTION:
URL:https://intra.ivmglobal.net/event/lahti-obm-11/
LOCATION:Hollolan Matkakeidas\, Hopeakalliontie 2\, Hollola\, 15880\, Suomi
CATEGORIES:OBM (+NDO),OBM Lahti
END:VEVENT
BEGIN:VEVENT
DTSTART;TZID=Europe/Helsinki:20230626T190000
DTEND;TZID=Europe/Helsinki:20230626T200000
DTSTAMP:20260420T091418
CREATED:20230213T060159Z
LAST-MODIFIED:20230622T180448Z
UID:9848-1687806000-1687809600@intra.ivmglobal.net
SUMMARY:Lahti OBM
DESCRIPTION:
URL:https://intra.ivmglobal.net/event/lahti-obm-9/
LOCATION:Hollolan Matkakeidas\, Hopeakalliontie 2\, Hollola\, 15880\, Suomi
CATEGORIES:OBM (+NDO),OBM Lahti
END:VEVENT
END:VCALENDAR