﻿BEGIN:VCALENDAR
VERSION:2.0
PRODID:-//IVM Global - ECPv6.5.2//NONSGML v1.0//EN
CALSCALE:GREGORIAN
METHOD:PUBLISH
X-ORIGINAL-URL:https://intra.ivmglobal.net
X-WR-CALDESC:Events for IVM Global
REFRESH-INTERVAL;VALUE=DURATION:PT1H
X-Robots-Tag:noindex
X-PUBLISHED-TTL:PT1H
BEGIN:VTIMEZONE
TZID:Europe/Helsinki
BEGIN:DAYLIGHT
TZOFFSETFROM:+0200
TZOFFSETTO:+0300
TZNAME:EEST
DTSTART:20240331T010000
END:DAYLIGHT
BEGIN:STANDARD
TZOFFSETFROM:+0300
TZOFFSETTO:+0200
TZNAME:EET
DTSTART:20241027T010000
END:STANDARD
END:VTIMEZONE
BEGIN:VEVENT
DTSTART;TZID=Europe/Helsinki:20240307T190000
DTEND;TZID=Europe/Helsinki:20240307T200000
DTSTAMP:20260421T142220
CREATED:20240101T123911Z
LAST-MODIFIED:20240101T123911Z
UID:11046-1709838000-1709841600@intra.ivmglobal.net
SUMMARY:Kouvola OBM
DESCRIPTION:
URL:https://intra.ivmglobal.net/event/kouvola-obm-30/
LOCATION:Keltakankaan ABC (Kouvola)\, Hallitie 2\, Kouvola\, 46860
CATEGORIES:OBM (+NDO),OBM Kouvola
END:VEVENT
BEGIN:VEVENT
DTSTART;TZID=Europe/Helsinki:20240321T190000
DTEND;TZID=Europe/Helsinki:20240321T200000
DTSTAMP:20260421T142220
CREATED:20240101T124045Z
LAST-MODIFIED:20240210T165007Z
UID:11048-1711047600-1711051200@intra.ivmglobal.net
SUMMARY:Kouvola OBM
DESCRIPTION:
URL:https://intra.ivmglobal.net/event/kouvola-obm-timantit-pia-harri-pentti-2/
LOCATION:Keltakankaan ABC (Kouvola)\, Hallitie 2\, Kouvola\, 46860
CATEGORIES:OBM (+NDO),OBM Kouvola
END:VEVENT
END:VCALENDAR