﻿BEGIN:VCALENDAR
VERSION:2.0
PRODID:-//IVM Global - ECPv6.5.2//NONSGML v1.0//EN
CALSCALE:GREGORIAN
METHOD:PUBLISH
X-WR-CALNAME:IVM Global
X-ORIGINAL-URL:https://intra.ivmglobal.net
X-WR-CALDESC:Events for IVM Global
REFRESH-INTERVAL;VALUE=DURATION:PT1H
X-Robots-Tag:noindex
X-PUBLISHED-TTL:PT1H
BEGIN:VTIMEZONE
TZID:Europe/Helsinki
BEGIN:DAYLIGHT
TZOFFSETFROM:+0200
TZOFFSETTO:+0300
TZNAME:EEST
DTSTART:20230326T010000
END:DAYLIGHT
BEGIN:STANDARD
TZOFFSETFROM:+0300
TZOFFSETTO:+0200
TZNAME:EET
DTSTART:20231029T010000
END:STANDARD
END:VTIMEZONE
BEGIN:VEVENT
DTSTART;TZID=Europe/Helsinki:20231005T190000
DTEND;TZID=Europe/Helsinki:20231005T200000
DTSTAMP:20260421T225427
CREATED:20230828T143804Z
LAST-MODIFIED:20230828T143804Z
UID:10623-1696532400-1696536000@intra.ivmglobal.net
SUMMARY:Kouvola OBM - peruttu
DESCRIPTION:
URL:https://intra.ivmglobal.net/event/kouvola-obm-peruttu-2/
LOCATION:Keltakankaan ABC (Kouvola)\, Hallitie 2\, Kouvola\, 46860
CATEGORIES:OBM (+NDO),OBM Kouvola
END:VEVENT
BEGIN:VEVENT
DTSTART;TZID=Europe/Helsinki:20231019T190000
DTEND;TZID=Europe/Helsinki:20231019T200000
DTSTAMP:20260421T225427
CREATED:20230828T144053Z
LAST-MODIFIED:20230828T144053Z
UID:10626-1697742000-1697745600@intra.ivmglobal.net
SUMMARY:Kouvola OBM
DESCRIPTION:
URL:https://intra.ivmglobal.net/event/kouvola-obm-23/
LOCATION:Keltakankaan ABC (Kouvola)\, Hallitie 2\, Kouvola\, 46860
CATEGORIES:OBM (+NDO),OBM Kouvola
END:VEVENT
END:VCALENDAR