﻿BEGIN:VCALENDAR
VERSION:2.0
PRODID:-//IVM Global - ECPv6.5.2//NONSGML v1.0//EN
CALSCALE:GREGORIAN
METHOD:PUBLISH
X-ORIGINAL-URL:https://intra.ivmglobal.net
X-WR-CALDESC:Events for IVM Global
REFRESH-INTERVAL;VALUE=DURATION:PT1H
X-Robots-Tag:noindex
X-PUBLISHED-TTL:PT1H
BEGIN:VTIMEZONE
TZID:Europe/Helsinki
BEGIN:DAYLIGHT
TZOFFSETFROM:+0200
TZOFFSETTO:+0300
TZNAME:EEST
DTSTART:20230326T010000
END:DAYLIGHT
BEGIN:STANDARD
TZOFFSETFROM:+0300
TZOFFSETTO:+0200
TZNAME:EET
DTSTART:20231029T010000
END:STANDARD
END:VTIMEZONE
BEGIN:VEVENT
DTSTART;TZID=Europe/Helsinki:20230907T190000
DTEND;TZID=Europe/Helsinki:20230907T220000
DTSTAMP:20260422T001123
CREATED:20230724T184654Z
LAST-MODIFIED:20230728T164457Z
UID:10510-1694113200-1694124000@intra.ivmglobal.net
SUMMARY:Kouvola OBM+NDO - Diamond Ian McDermott
DESCRIPTION:
URL:https://intra.ivmglobal.net/event/kouvola-obm-21/
LOCATION:Keltakankaan ABC (Kouvola)\, Hallitie 2\, Kouvola\, 46860
CATEGORIES:OBM (+NDO),OBM Kouvola
END:VEVENT
BEGIN:VEVENT
DTSTART;TZID=Europe/Helsinki:20230921T190000
DTEND;TZID=Europe/Helsinki:20230921T200000
DTSTAMP:20260422T001123
CREATED:20230724T184814Z
LAST-MODIFIED:20230828T143434Z
UID:10512-1695322800-1695326400@intra.ivmglobal.net
SUMMARY:Kouvola OBM - peruttu
DESCRIPTION:
URL:https://intra.ivmglobal.net/event/kouvola-obm-22/
LOCATION:Keltakankaan ABC (Kouvola)\, Hallitie 2\, Kouvola\, 46860
CATEGORIES:OBM (+NDO),OBM Kouvola
END:VEVENT
BEGIN:VEVENT
DTSTART;TZID=Europe/Helsinki:20230928T190000
DTEND;TZID=Europe/Helsinki:20230928T220000
DTSTAMP:20260422T001123
CREATED:20230828T143609Z
LAST-MODIFIED:20230828T143609Z
UID:10621-1695927600-1695938400@intra.ivmglobal.net
SUMMARY:Kouvola OBM+NDO - Timantti Vaula McDermott
DESCRIPTION:
URL:https://intra.ivmglobal.net/event/kouvola-obmndo-timantti-vaula-mcdermott-2/
LOCATION:Keltakankaan ABC (Kouvola)\, Hallitie 2\, Kouvola\, 46860
CATEGORIES:OBM (+NDO),OBM Kouvola
END:VEVENT
END:VCALENDAR