﻿BEGIN:VCALENDAR
VERSION:2.0
PRODID:-//IVM Global - ECPv6.5.2//NONSGML v1.0//EN
CALSCALE:GREGORIAN
METHOD:PUBLISH
X-WR-CALNAME:IVM Global
X-ORIGINAL-URL:https://intra.ivmglobal.net
X-WR-CALDESC:Events for IVM Global
REFRESH-INTERVAL;VALUE=DURATION:PT1H
X-Robots-Tag:noindex
X-PUBLISHED-TTL:PT1H
BEGIN:VTIMEZONE
TZID:Europe/Helsinki
BEGIN:DAYLIGHT
TZOFFSETFROM:+0200
TZOFFSETTO:+0300
TZNAME:EEST
DTSTART:20230326T010000
END:DAYLIGHT
BEGIN:STANDARD
TZOFFSETFROM:+0300
TZOFFSETTO:+0200
TZNAME:EET
DTSTART:20231029T010000
END:STANDARD
END:VTIMEZONE
BEGIN:VEVENT
DTSTART;TZID=Europe/Helsinki:20230711T190000
DTEND;TZID=Europe/Helsinki:20230711T200000
DTSTAMP:20260421T081820
CREATED:20230630T183725Z
LAST-MODIFIED:20230710T171531Z
UID:10371-1689102000-1689105600@intra.ivmglobal.net
SUMMARY:Helsinki OBM (Espoo)
DESCRIPTION:Tässä Helsingn OBM:n osoite heinäkuussa.\nElokuussa palataan taas Mäkelän koululle.\n\nTi 11.7. klo 19.00-20.00\nTi 25.7. klo 19.00-20.00\n\n\nPAIKKA:\nSTUDIO 4A\, Komeetankuja 4 A\, Olari\, Espoo.\nKäynti sisäpihalta.\n\nParkkipaikkana käytetään Olarin Prisman ulkona olevaa parkkitasoa. Sieltä on näköyhteys Open-paikkaan ja kävelymatka 1-2 min. Parkkitasolle ajetaan suoraan Komeetankujalta. Lähin metropysäkki on Matinkylässä / IsoOmena.\n\nLove\nAnne & Janne
URL:https://intra.ivmglobal.net/event/helsinki-obm-espoo/
LOCATION:Studio 4A\, Komeetankuja 4 A\, Olari Espoo
CATEGORIES:OBM (+NDO),OBM Helsinki
END:VEVENT
END:VCALENDAR