﻿BEGIN:VCALENDAR
VERSION:2.0
PRODID:-//IVM Global - ECPv6.5.2//NONSGML v1.0//EN
CALSCALE:GREGORIAN
METHOD:PUBLISH
X-ORIGINAL-URL:https://intra.ivmglobal.net
X-WR-CALDESC:Events for IVM Global
REFRESH-INTERVAL;VALUE=DURATION:PT1H
X-Robots-Tag:noindex
X-PUBLISHED-TTL:PT1H
BEGIN:VTIMEZONE
TZID:Europe/Helsinki
BEGIN:DAYLIGHT
TZOFFSETFROM:+0200
TZOFFSETTO:+0300
TZNAME:EEST
DTSTART:20240331T010000
END:DAYLIGHT
BEGIN:STANDARD
TZOFFSETFROM:+0300
TZOFFSETTO:+0200
TZNAME:EET
DTSTART:20241027T010000
END:STANDARD
END:VTIMEZONE
BEGIN:VEVENT
DTSTART;TZID=Europe/Helsinki:20240514T190000
DTEND;TZID=Europe/Helsinki:20240514T200000
DTSTAMP:20260420T135128
CREATED:20240513T185241Z
LAST-MODIFIED:20240513T185425Z
UID:11453-1715713200-1715716800@intra.ivmglobal.net
SUMMARY:Helsinki OBM - Smaragdi Jari Hautamäki\, sis.käynti Hollolantie 2
DESCRIPTION:
URL:https://intra.ivmglobal.net/event/helsinki-obm-smaragdi-jari-hautamaki-sis-kaynti-hollolankatu-2/
LOCATION:Mäkelän koulu (Helsinki)\, Hattulantie 2\, Helsinki\, Finland
CATEGORIES:OBM (+NDO),OBM Helsinki
END:VEVENT
BEGIN:VEVENT
DTSTART;TZID=Europe/Helsinki:20240528T190000
DTEND;TZID=Europe/Helsinki:20240528T200000
DTSTAMP:20260420T135128
CREATED:20240513T185705Z
LAST-MODIFIED:20240527T152305Z
UID:11456-1716922800-1716926400@intra.ivmglobal.net
SUMMARY:Helsinki OBM\, sis. käynti Hollolantie 2
DESCRIPTION:
URL:https://intra.ivmglobal.net/event/helsinki-obmndo-2/
LOCATION:Mäkelän koulu (Helsinki)\, Hattulantie 2\, Helsinki\, Finland
CATEGORIES:OBM (+NDO),OBM Helsinki
END:VEVENT
END:VCALENDAR