﻿BEGIN:VCALENDAR
VERSION:2.0
PRODID:-//IVM Global - ECPv6.5.2//NONSGML v1.0//EN
CALSCALE:GREGORIAN
METHOD:PUBLISH
X-WR-CALNAME:IVM Global
X-ORIGINAL-URL:https://intra.ivmglobal.net
X-WR-CALDESC:Events for IVM Global
REFRESH-INTERVAL;VALUE=DURATION:PT1H
X-Robots-Tag:noindex
X-PUBLISHED-TTL:PT1H
BEGIN:VTIMEZONE
TZID:Europe/Helsinki
BEGIN:DAYLIGHT
TZOFFSETFROM:+0200
TZOFFSETTO:+0300
TZNAME:EEST
DTSTART:20230326T010000
END:DAYLIGHT
BEGIN:STANDARD
TZOFFSETFROM:+0300
TZOFFSETTO:+0200
TZNAME:EET
DTSTART:20231029T010000
END:STANDARD
END:VTIMEZONE
BEGIN:VEVENT
DTSTART;TZID=Europe/Helsinki:20230822T190000
DTEND;TZID=Europe/Helsinki:20230822T220000
DTSTAMP:20260421T052530
CREATED:20230715T133230Z
LAST-MODIFIED:20230715T133230Z
UID:10500-1692730800-1692741600@intra.ivmglobal.net
SUMMARY:Helsinki OBM+NDO - Timantti Ian McDermott (käynti Hollolankatu 2)
DESCRIPTION:
URL:https://intra.ivmglobal.net/event/helsinki-obmndo-timantti-ian-mcdermott-kaynti-hollolankatu-2/
LOCATION:Mäkelän koulu (Helsinki)\, Hattulantie 2\, Helsinki\, Finland
CATEGORIES:OBM (+NDO),OBM Helsinki
END:VEVENT
END:VCALENDAR