﻿BEGIN:VCALENDAR
VERSION:2.0
PRODID:-//IVM Global - ECPv6.5.2//NONSGML v1.0//EN
CALSCALE:GREGORIAN
METHOD:PUBLISH
X-ORIGINAL-URL:https://intra.ivmglobal.net
X-WR-CALDESC:Events for IVM Global
REFRESH-INTERVAL;VALUE=DURATION:PT1H
X-Robots-Tag:noindex
X-PUBLISHED-TTL:PT1H
BEGIN:VTIMEZONE
TZID:Europe/Helsinki
BEGIN:DAYLIGHT
TZOFFSETFROM:+0200
TZOFFSETTO:+0300
TZNAME:EEST
DTSTART:20220327T010000
END:DAYLIGHT
BEGIN:STANDARD
TZOFFSETFROM:+0300
TZOFFSETTO:+0200
TZNAME:EET
DTSTART:20221030T010000
END:STANDARD
END:VTIMEZONE
BEGIN:VEVENT
DTSTART;TZID=Europe/Helsinki:20221107T190000
DTEND;TZID=Europe/Helsinki:20221107T203000
DTSTAMP:20260423T003015
CREATED:20220905T163522Z
LAST-MODIFIED:20221104T121105Z
UID:8759-1667847600-1667853000@intra.ivmglobal.net
SUMMARY:OBM Hämeenlinna
DESCRIPTION:
URL:https://intra.ivmglobal.net/event/obm-hameenlinna-3/
LOCATION:ABC Tiiriö\, Paroistetie 1\, Hämeenlinna\, Hämeenlinna\, 13600\, Suomi
CATEGORIES:OBM (+NDO),OBM Hämeenlinna
END:VEVENT
END:VCALENDAR