﻿BEGIN:VCALENDAR
VERSION:2.0
PRODID:-//IVM Global - ECPv6.5.2//NONSGML v1.0//EN
CALSCALE:GREGORIAN
METHOD:PUBLISH
X-WR-CALNAME:IVM Global
X-ORIGINAL-URL:https://intra.ivmglobal.net
X-WR-CALDESC:Events for IVM Global
REFRESH-INTERVAL;VALUE=DURATION:PT1H
X-Robots-Tag:noindex
X-PUBLISHED-TTL:PT1H
BEGIN:VTIMEZONE
TZID:Europe/Helsinki
BEGIN:DAYLIGHT
TZOFFSETFROM:+0200
TZOFFSETTO:+0300
TZNAME:EEST
DTSTART:20220327T010000
END:DAYLIGHT
BEGIN:STANDARD
TZOFFSETFROM:+0300
TZOFFSETTO:+0200
TZNAME:EET
DTSTART:20221030T010000
END:STANDARD
END:VTIMEZONE
BEGIN:VEVENT
DTSTART;TZID=Europe/Helsinki:20221010T190000
DTEND;TZID=Europe/Helsinki:20221010T200000
DTSTAMP:20260423T015647
CREATED:20220925T051338Z
LAST-MODIFIED:20220925T052552Z
UID:9289-1665428400-1665432000@intra.ivmglobal.net
SUMMARY:Hämeenlinna OBM
DESCRIPTION:
URL:https://intra.ivmglobal.net/event/hameenlinna-obm-3/
LOCATION:ABC Tiiriö\, Paroistetie 1\, Hämeenlinna\, Hämeenlinna\, 13600\, Suomi
CATEGORIES:OBM (+NDO),OBM Hämeenlinna
END:VEVENT
END:VCALENDAR