﻿BEGIN:VCALENDAR
VERSION:2.0
PRODID:-//IVM Global - ECPv6.5.2//NONSGML v1.0//EN
CALSCALE:GREGORIAN
METHOD:PUBLISH
X-ORIGINAL-URL:https://intra.ivmglobal.net
X-WR-CALDESC:Events for IVM Global
REFRESH-INTERVAL;VALUE=DURATION:PT1H
X-Robots-Tag:noindex
X-PUBLISHED-TTL:PT1H
BEGIN:VTIMEZONE
TZID:Europe/Helsinki
BEGIN:DAYLIGHT
TZOFFSETFROM:+0200
TZOFFSETTO:+0300
TZNAME:EEST
DTSTART:20240331T010000
END:DAYLIGHT
BEGIN:STANDARD
TZOFFSETFROM:+0300
TZOFFSETTO:+0200
TZNAME:EET
DTSTART:20241027T010000
END:STANDARD
END:VTIMEZONE
BEGIN:VEVENT
DTSTART;TZID=Europe/Helsinki:20241104T190000
DTEND;TZID=Europe/Helsinki:20241104T200000
DTSTAMP:20260423T031638
CREATED:20240906T045917Z
LAST-MODIFIED:20241102T120305Z
UID:12145-1730746800-1730750400@intra.ivmglobal.net
SUMMARY:Hämeenlinna OBM
DESCRIPTION:
URL:https://intra.ivmglobal.net/event/hameenlinna-obm-23/
LOCATION:Janakkalan kunnantalo – Päivärinne kokoustila\, Juttilantie 1\, Janakkala\, 14200\, Suomi
CATEGORIES:OBM (+NDO),OBM Hämeenlinna
END:VEVENT
BEGIN:VEVENT
DTSTART;TZID=Europe/Helsinki:20241105T190000
DTEND;TZID=Europe/Helsinki:20241105T200000
DTSTAMP:20260423T031638
CREATED:20241003T174659Z
LAST-MODIFIED:20241003T174659Z
UID:12258-1730833200-1730836800@intra.ivmglobal.net
SUMMARY:Tampere OBM
DESCRIPTION:
URL:https://intra.ivmglobal.net/event/tampere-obm-32/
LOCATION:ABC Lahdesjärvi (Tampere)\, Automiehenkatu 39\, Tampere
CATEGORIES:OBM (+NDO),OBM Tampere
END:VEVENT
BEGIN:VEVENT
DTSTART;TZID=Europe/Helsinki:20241106T190000
DTEND;TZID=Europe/Helsinki:20241106T200000
DTSTAMP:20260423T031638
CREATED:20240912T201701Z
LAST-MODIFIED:20240929T201653Z
UID:12187-1730919600-1730923200@intra.ivmglobal.net
SUMMARY:Salo OBM
DESCRIPTION:
URL:https://intra.ivmglobal.net/event/salo-obm-39/
LOCATION:Salon VPK talo\, Asemakatu 3\, Salo\, Finland
CATEGORIES:OBM (+NDO),OBM Salo
END:VEVENT
BEGIN:VEVENT
DTSTART;TZID=Europe/Helsinki:20241112T190000
DTEND;TZID=Europe/Helsinki:20241112T200000
DTSTAMP:20260423T031638
CREATED:20240912T201026Z
LAST-MODIFIED:20241112T181035Z
UID:12181-1731438000-1731441600@intra.ivmglobal.net
SUMMARY:Helsinki OBM\, sis\, käynti Hollolantie 2
DESCRIPTION:
URL:https://intra.ivmglobal.net/event/helsinki-obm-sis-kaynti-hollolantie-2-12/
LOCATION:Mäkelän koulu (Helsinki)\, Hattulantie 2\, Helsinki\, Finland
CATEGORIES:OBM (+NDO),OBM Helsinki
END:VEVENT
BEGIN:VEVENT
DTSTART;TZID=Europe/Helsinki:20241113T190000
DTEND;TZID=Europe/Helsinki:20241113T200000
DTSTAMP:20260423T031638
CREATED:20240824T180721Z
LAST-MODIFIED:20240929T201600Z
UID:11852-1731524400-1731528000@intra.ivmglobal.net
SUMMARY:Oulu OBM
DESCRIPTION:
URL:https://intra.ivmglobal.net/event/oulu-obm-17/
LOCATION:ABC Tupos\, Tuposkorva 1\, Liminka\, 91910\, Suomi
CATEGORIES:OBM (+NDO),OBM Oulu
END:VEVENT
BEGIN:VEVENT
DTSTART;TZID=Europe/Helsinki:20241113T190000
DTEND;TZID=Europe/Helsinki:20241113T210000
DTSTAMP:20260423T031638
CREATED:20240912T202734Z
LAST-MODIFIED:20240929T201516Z
UID:12195-1731524400-1731531600@intra.ivmglobal.net
SUMMARY:Raisio/Turku OBM+NDO - Smaragdi Terhi Laine
DESCRIPTION:
URL:https://intra.ivmglobal.net/event/raisio-turku-obmndo-smaragdi-terhi-laine-2/
LOCATION:Kuninkojan vanha koulu\, Vuorelankatu 9\, Raisio
CATEGORIES:OBM (+NDO),OBM Turku
END:VEVENT
BEGIN:VEVENT
DTSTART;TZID=Europe/Helsinki:20241113T190000
DTEND;TZID=Europe/Helsinki:20241113T210000
DTSTAMP:20260423T031638
CREATED:20240925T072557Z
LAST-MODIFIED:20240929T201433Z
UID:12229-1731524400-1731531600@intra.ivmglobal.net
SUMMARY:Vaasa OBM+NDO - Smaragdi Irma Lund
DESCRIPTION:
URL:https://intra.ivmglobal.net/event/vaasa-obmndo-smaragdi-irma-lund-8/
LOCATION:ABC Airport (Vaasa)\, Kiitokaari 2\, Vaasa\, 65380
CATEGORIES:OBM (+NDO),OBM Vaasa
END:VEVENT
BEGIN:VEVENT
DTSTART;TZID=Europe/Helsinki:20241114T190000
DTEND;TZID=Europe/Helsinki:20241114T200000
DTSTAMP:20260423T031638
CREATED:20240912T203630Z
LAST-MODIFIED:20240929T201339Z
UID:12204-1731610800-1731614400@intra.ivmglobal.net
SUMMARY:Kouvola OBM
DESCRIPTION:
URL:https://intra.ivmglobal.net/event/kouvola-obm-43/
LOCATION:Keltakankaan ABC (Kouvola)\, Hallitie 2\, Kouvola\, 46860
CATEGORIES:OBM (+NDO),OBM Kouvola
END:VEVENT
BEGIN:VEVENT
DTSTART;TZID=Europe/Helsinki:20241118T190000
DTEND;TZID=Europe/Helsinki:20241118T200000
DTSTAMP:20260423T031638
CREATED:20241103T212241Z
LAST-MODIFIED:20241103T212241Z
UID:12315-1731956400-1731960000@intra.ivmglobal.net
SUMMARY:Hämeenlinna OBM
DESCRIPTION:
URL:https://intra.ivmglobal.net/event/hameenlinna-obm-24/
LOCATION:Janakkalan kunnantalo – Päivärinne kokoustila\, Juttilantie 1\, Janakkala\, 14200\, Suomi
CATEGORIES:OBM (+NDO),OBM Hämeenlinna
END:VEVENT
BEGIN:VEVENT
DTSTART;TZID=Europe/Helsinki:20241119T190000
DTEND;TZID=Europe/Helsinki:20241119T210000
DTSTAMP:20260423T031638
CREATED:20241003T174817Z
LAST-MODIFIED:20241106T175255Z
UID:12260-1732042800-1732050000@intra.ivmglobal.net
SUMMARY:Tampere OBM+NDO - Smaragdi Jari Hautamäki
DESCRIPTION:
URL:https://intra.ivmglobal.net/event/tampere-obm-33/
LOCATION:ABC Lahdesjärvi (Tampere)\, Automiehenkatu 39\, Tampere
CATEGORIES:OBM (+NDO),OBM Tampere
END:VEVENT
BEGIN:VEVENT
DTSTART;TZID=Europe/Helsinki:20241120T190000
DTEND;TZID=Europe/Helsinki:20241120T210000
DTSTAMP:20260423T031638
CREATED:20240912T201912Z
LAST-MODIFIED:20240929T201257Z
UID:12189-1732129200-1732136400@intra.ivmglobal.net
SUMMARY:Salo OBM+NDO - Smaragdit Jari Hautamäki & Leena Tiitola
DESCRIPTION:
URL:https://intra.ivmglobal.net/event/salo-obmndo-smaragdit-jari-hautamaki-leena-tiitola-6/
LOCATION:Salon VPK talo\, Asemakatu 3\, Salo\, Finland
CATEGORIES:OBM (+NDO),OBM Salo
END:VEVENT
BEGIN:VEVENT
DTSTART;TZID=Europe/Helsinki:20241126T190000
DTEND;TZID=Europe/Helsinki:20241126T210000
DTSTAMP:20260423T031638
CREATED:20240912T201240Z
LAST-MODIFIED:20241125T123054Z
UID:12183-1732647600-1732654800@intra.ivmglobal.net
SUMMARY:Helsinki OBM+NDO - Smaragdit Anne & Janne Kekoni\, sis. käynti Hollolantie 2
DESCRIPTION:
URL:https://intra.ivmglobal.net/event/helsinki-obm-sis-kaynti-hollolantie-2-13/
LOCATION:Mäkelän koulu (Helsinki)\, Hattulantie 2\, Helsinki\, Finland
CATEGORIES:OBM (+NDO),OBM Helsinki
END:VEVENT
BEGIN:VEVENT
DTSTART;TZID=Europe/Helsinki:20241127T190000
DTEND;TZID=Europe/Helsinki:20241127T200000
DTSTAMP:20260423T031638
CREATED:20240912T202905Z
LAST-MODIFIED:20240929T201145Z
UID:12198-1732734000-1732737600@intra.ivmglobal.net
SUMMARY:Raisio/Turku OBM
DESCRIPTION:
URL:https://intra.ivmglobal.net/event/raisio-turku-obm-5/
LOCATION:Kuninkojan vanha koulu\, Vuorelankatu 9\, Raisio
CATEGORIES:OBM (+NDO),OBM Turku
END:VEVENT
BEGIN:VEVENT
DTSTART;TZID=Europe/Helsinki:20241127T190000
DTEND;TZID=Europe/Helsinki:20241127T200000
DTSTAMP:20260423T031638
CREATED:20240925T072731Z
LAST-MODIFIED:20240929T201055Z
UID:12231-1732734000-1732737600@intra.ivmglobal.net
SUMMARY:Vaasa OBM
DESCRIPTION:
URL:https://intra.ivmglobal.net/event/vaasa-obm-6/
LOCATION:ABC Airport (Vaasa)\, Kiitokaari 2\, Vaasa\, 65380
CATEGORIES:OBM (+NDO),OBM Vaasa
END:VEVENT
BEGIN:VEVENT
DTSTART;TZID=Europe/Helsinki:20241128T190000
DTEND;TZID=Europe/Helsinki:20241128T200000
DTSTAMP:20260423T031638
CREATED:20240912T203806Z
LAST-MODIFIED:20240929T201014Z
UID:12206-1732820400-1732824000@intra.ivmglobal.net
SUMMARY:Kouvola OBM
DESCRIPTION:
URL:https://intra.ivmglobal.net/event/kouvola-obm-44/
LOCATION:Keltakankaan ABC (Kouvola)\, Hallitie 2\, Kouvola\, 46860
CATEGORIES:OBM (+NDO),OBM Kouvola
END:VEVENT
END:VCALENDAR