﻿BEGIN:VCALENDAR
VERSION:2.0
PRODID:-//IVM Global - ECPv6.5.2//NONSGML v1.0//EN
CALSCALE:GREGORIAN
METHOD:PUBLISH
X-WR-CALNAME:IVM Global
X-ORIGINAL-URL:https://intra.ivmglobal.net
X-WR-CALDESC:Events for IVM Global
REFRESH-INTERVAL;VALUE=DURATION:PT1H
X-Robots-Tag:noindex
X-PUBLISHED-TTL:PT1H
BEGIN:VTIMEZONE
TZID:Europe/Helsinki
BEGIN:DAYLIGHT
TZOFFSETFROM:+0200
TZOFFSETTO:+0300
TZNAME:EEST
DTSTART:20240331T010000
END:DAYLIGHT
BEGIN:STANDARD
TZOFFSETFROM:+0300
TZOFFSETTO:+0200
TZNAME:EET
DTSTART:20241027T010000
END:STANDARD
BEGIN:DAYLIGHT
TZOFFSETFROM:+0200
TZOFFSETTO:+0300
TZNAME:EEST
DTSTART:20250330T010000
END:DAYLIGHT
BEGIN:STANDARD
TZOFFSETFROM:+0300
TZOFFSETTO:+0200
TZNAME:EET
DTSTART:20251026T010000
END:STANDARD
END:VTIMEZONE
BEGIN:VEVENT
DTSTART;TZID=Europe/Helsinki:20240603T180000
DTEND;TZID=Europe/Helsinki:20240603T210000
DTSTAMP:20260422T042910
CREATED:20240527T152601Z
LAST-MODIFIED:20240527T152601Z
UID:11507-1717437600-1717448400@intra.ivmglobal.net
SUMMARY:Nutriway Module 1 Zoom
DESCRIPTION:Pidän  Nutriway Module 1 -kurssin zoomissa.  \n  \nAika: Ma 3.6.2024 klo 18-21.00 \n  \nPaikka: zoom \n  \nHinta: 15 € \n  \nSitova ilmoittautuminen oman Platinan kautta viimeistään su 2.6.2024 \nHUOM! Kurssin maksu 15€ omalle Platinalle viimeistään su 2.6.2024 \nKun olet ilmoittautunut ja maksanut kurssin Platinallesi\, hän lähettää osallistuville su 2.6.2024 ZOOM-linkin kurssille sekä kurssimateriaalin sähköpostitse. \n  \n  \n  \nLämpimästi tervetuloa kurssille! \n  \nTarja Mäkinen \n  \nALLA LISÄTIETOA KURSSISTA: \nMODULE 1: PERUSKURSSI \nNUTRIWAY peruskurssi \nPeruskurssin käytyäsi olet pätevöitynyt Nutriway Consult -tasolle \nKurssilla saat tietoa Nutriwayn laadukkaista tuotteista: opit perusasiat vitamiineista ja muista ravintolisistä. Opit ymmärtämään mikä on ravintolisien merkitys hyvinvoinnillesi. Kurssin jälkeen osaat arvioida oman ravintolisätarpeesi ja suositella tuotteita myös asiakkaillesi. Kurssin jälkeen osaat myös pitää Hyvinvointi-illan Nutriway tuotteiden parissa. Peruskurssi on pohjana Nutriwayn jatkokursseille Module 2 (Bodykey ja XS) ja Module 3 (syventävä ravintolisäkurssi) \nTarvitset: \nLaitteen\, jossa ZOOM toimii äänen kanssa (tietokone\, kannettava tietokone\, tabletti tai älypuhelin) (Et tarvitse Web-kameraa) \n\nInternet-yhteyden \n\nMuistiinpanovälineet \n\nKorostustussi \nKansion materiaaleja varten
URL:https://intra.ivmglobal.net/event/nutriway-module-1-zoom-5/
CATEGORIES:Nutriway-koulutus
END:VEVENT
BEGIN:VEVENT
DTSTART;TZID=Europe/Helsinki:20240616T180000
DTEND;TZID=Europe/Helsinki:20240616T210000
DTSTAMP:20260422T042910
CREATED:20240322T070158Z
LAST-MODIFIED:20240610T082448Z
UID:11374-1718560800-1718571600@intra.ivmglobal.net
SUMMARY:Nutriway Module 2 - Zoom
DESCRIPTION:Hyvinvointi ja terveys on elämän kantava voima! \n  \nTule NUTRIWAYn kursseille ZOOMiin. \nOpit hyödyntämään laadukkaita tuotteita sekä oman ja läheisten terveyden tueksi että suosittelemaan niitä muille. \n  \nNUTRIWAY 1 – Peruskurssi \nSU 28.4.2024 \nklo 18 – 20 \nNUTRIWAY 2 – kehonpuhdistus\, painonhallinta ja XS \nSU 16.6.2024 \nklo 18 – n.21 \n  \n\n\nSitova ilmoittautuminen oman Platinan kautta viimeistään kurssipäivää edeltävänä päivänä. \n\n\n  \n\n\nHUOM! Kurssin maksu 15€/kurssi maksetaan omalle Platinalle viimeistään kurssipäivää edeltävänä päivänä \n\n\n  \n\n\nSaat ZOOM-linkin kurssille\, materiaalin ja kuitin koulutuksesta sähköpostiisi platinasi kautta\, kun olet maksanut kurssin platinallesi \n\n\n  \n\n\nPlatinat ilmoittavat kurssille tulijat sähköpostitse \n\n\npaivi.jarvilehto.kylanpaa@gmail.com \n  \n\n\nPlatinat maksavat kurssimaksut Päivi Järvilehto-Kylänpään tilille \n\n\nFI06 5258 0920 0420 80 \n  \nZoomiin tarvitset: \n• Tulostetun materiaalin \n• Korostustussi \n• Kansion materiaaleja varten \n  \nOlet lämpimästi tervetullut kursseille! \n  \nTerveisin \nPäivi Järvilehto-Kylänpää \n  \n************************** \nLISÄTIETOA KURSSEISTA: \n  \nNUTRIWAY MODULE 1/ PERUSKURSSI \nPeruskurssin käytyäsi olet pätevöitynyt Nutriway Consult -tasolle \n  \nKurssilla saat tietoa Nutriwayn laadukkaista tuotteista: \n• Opit perusasiat vitamiineista ja muista ravintolisistä. \n• Opit ymmärtämään mikä on ravintolisien merkitys hyvinvoinnille. \n• Kurssin jälkeen osaat arvioida oman ravintolisä tarpeesi ja suositella tuotteita myös asiakkaillesi. \n• Kurssin jälkeen osaat myös pitää Hyvinvointi-illan Nutriway tuotteiden parissa. \n  \nPeruskurssi on pohjana Nutriwayn jatkokursseille Module 2 ja Module 3 \nNUTRIWAY MODULE 2/ KEHONPUHDISTUSOHJELMA\,  PAINONHALLINTA JA URHEILIJAN HYVINVOINTIKURSSI \n  \nSuoritettuasi Nutriway modulit 1 ja 2 pätevöidyt Nutriway Coach tasolle \n  \nKurssilla saat tietoa siitä miten lisäät hyvinvointiasi ja otat askelia kokonaisvaltaiseen hyvinvointiin kehonpuhdistysohjelman\, painonhallinnan ja urheilun kautta. \n  \n• Opit keskeiset Amwayn tuotteet\, joita tarvitaan kehonpuhdistuksessa\, painonpudotuksessa\, painonhallinnassa\, liikunnassa ja arkipäivän jaksamisessa. \n• Kurssin jälkeen osaat sekä hyödyntää kehonpuhdistusohjelmaa että edistää tuotteiden ja liikunnan avulla omaa hyvinvointiasi\, jaksamista ja terveyttä. Osaat käyttää tuotteita oikein itse ja suositella niitä muille. \n• Kurssin jälkeen osaat myös itse vetää kehonpuhdistusryhmiä joista saat kasvua ryhmääsi ja liiketoimintaasi. \n• Osaat myös myydä ja markkinoida Nutriway tuotteita urheilijoille. \n  \nKurssi on jatkoa Peruskurssille (Module 1
URL:https://intra.ivmglobal.net/event/nutriway-2-zoom/
CATEGORIES:Nutriway-koulutus
END:VEVENT
BEGIN:VEVENT
DTSTART;TZID=Europe/Helsinki:20240624T180000
DTEND;TZID=Europe/Helsinki:20240624T213000
DTSTAMP:20260422T042910
CREATED:20240610T082134Z
LAST-MODIFIED:20240610T082134Z
UID:11537-1719252000-1719264600@intra.ivmglobal.net
SUMMARY:Nutriway Module 2 - Zoom
DESCRIPTION:Pidän Nutriway Module 2 –kurssin ZOOMissa. \nKurssi on 2-osainen eli  XS-sarjan tuotteet\, puhdistusohjelman sekä oma hyvinvointi. \n\nAika: ma 24.6.2024 klo 18-21.30 \n\nPaikka: ZOOM \n\nHinta: 15 € \n\nSitova ilmoittautuminen oman Platinan kautta viimeistään su 23.6.2024. \nHUOM! Kurssin maksu 15€ omalle Platinalle viimeistään su 23.6.2024. \nKun olet ilmoittautunut ja maksanut kurssin Platinallesi\, hän lähettää sinulle su 23.6.2024 ZOOM-linkin kurssille sekä kurssimateriaalin sähköpostitse. \n  \nPlatinat maksavat Tarja Mäkisen tilille FI62 1252 3500002321 \n\nLämpimästi tervetuloa kurssille! \n\nTarja Mäkinen \n\n\nALLA LISÄTIETOA KURSSISTA: \n\n\n\n\nModule 2: Painonhallinta\, puhdistusohjelma ja XS\, urheilijan hyvinvointi   \nNUTRIWAY  painonhallinta-\, puhdistus- ja hyvinvointikurssi\, kesto 3\,5h\, hinta 15e \nSuoritettuasi Nutriway modulit 1 (peruskurssi) ja  2 (Bodykey) pätevöidyt Nutriway Coach  tasolle \nKurssilla saat tietoa siitä\, miten painonhallinta\, hyvinvointi ja urheilu liittyvät toisiinsa. Opit\, miksi puhdistus–painonhallintaohjelma on hyvä keino silloin\, kun halutaan saavuttaa kokonaisvaltaisen hyvinvoinnin. Opit keskeiset Amwayn tuotteet\, joita tarvitaan painonpudotuksessa\, painonhallinnassa ja arkipäivän jaksamisessa. \nKurssin jälkeen osaat tuotteiden ja liikunnan avulla edistää omaa hyvinvointiasi\, jaksamista ja terveyttä ja osaat käyttää tuotteita oikein itse ja suositella niitä muille. Kurssin jälkeen osaat myös itse vetää painonhallintaryhmiä\, joista saat lisätuloja ja hienon myyntikanavan. Osaat myös myydä ja markkinoida Nutriway tuotteita urheilijoille. \n\nTämä kurssi on 2-osainen eli ensin XS_osuus sekä kuntoilijoille että urheilijoille ja sitten toinen osuus painonhallinta\,puhdistus  ja hyvinvointi.
URL:https://intra.ivmglobal.net/event/nutriway-module-2-zoom-5/
CATEGORIES:Nutriway-koulutus
END:VEVENT
BEGIN:VEVENT
DTSTART;TZID=Europe/Helsinki:20240708T180000
DTEND;TZID=Europe/Helsinki:20240708T213000
DTSTAMP:20260422T042910
CREATED:20240702T051153Z
LAST-MODIFIED:20240702T051153Z
UID:11624-1720461600-1720474200@intra.ivmglobal.net
SUMMARY:Nutriway Module 3 - Zoom
DESCRIPTION:Hei\, \n\nPidän Nutriway Module 3 -kurssin WEBINAARINA ZOOMissa. \n  \n\nAika: maanantai 8.7.2024 klo 18-21.30 \nPaikka: ZOOM \nHinta: 15 e \nSitova ilmoittautuminen oman Platinan kautta viimeistään su 7.7.2024 \nHUOM! Kurssin maksu omalle Platinalle viimeistään su 7.7.2024 \nPlatinat maksavat Tarja Mäkisen tilille FI62 1252 3500002321\n \n\nKun olet ilmoittautunut ja maksanut kurssin Platinallesi\, hän lähettää sinulle su 7.7.2024 ZOOM-linkin kurssille sekä kurssimateriaalin sähköpostitse.  \n\n\nLämpimästi tervetuloa kurssille! 🙂 \nTarja Mäkinen \n\n\nALLA LISÄTIETOA KURSSISTA: \n\n\nModule 3: Syventävä kurssi\, kesto 3-4h \n\nSuoritettuasi kaikki kolme Nutriway modulia (Peruskurssi\, Bodykey ja Syventävä kurssi) pätevöidyt Nutriway Master -tasolle. \n\nNutriway 3-kurssilla saat tietoa siitä\, miten ihmisen energiantuotanto ja immuniteetti toimivat tai mitä sinussa tapahtuu\, kun olet stressaantunut. Opit luiden\, nivelten\, silmien\, ihon ja verenkierron peruskäsitteet ja miten niiden hyvää toimintakykyä voidaan parantaa. Opit erityisryhmien erot\, kuten raskauden suunnittelu/raskaus/imetys\, naiset\, miehet\, lapset. Opit soveltamaan tuotetietoa ja kokoamaan tuotepaketteja erilaisiin terveyden haasteisiin. \n\nKurssi on jatkoa Peruskurssille (Module 1)\, ja Painonhallinta\, puhdistus sekä XS-tuotteet/urheilu (Module 2). \n\nMukaan tarvitset: \nMuistiinpanovälineet \nKansion materiaaleja varten \n\nTämä on siis virallinen Nutriway Module 3 kurssi\, jonka käytyäsi ja läpäistyäsi loppukokeen voit siis käyttää titteliä ”Nutriway Master”! \n 
URL:https://intra.ivmglobal.net/event/nutriway-module-3-zoom-6/
CATEGORIES:Nutriway-koulutus
END:VEVENT
BEGIN:VEVENT
DTSTART;TZID=Europe/Helsinki:20240721T180000
DTEND;TZID=Europe/Helsinki:20240721T210000
DTSTAMP:20260422T042910
CREATED:20240718T065450Z
LAST-MODIFIED:20240718T065450Z
UID:11768-1721584800-1721595600@intra.ivmglobal.net
SUMMARY:Nutriway Module 3 - Zoom
DESCRIPTION:NUTRIWAY 3 – Syventävä kurssi \nSU 21.7.2024 \nklo 18 – n.21 \n·  Sitova ilmoittautuminen oman Platinan kautta viimeistään kurssipäivää edeltävänä päivänä. \n·  HUOM! Kurssin maksu 15€/kurssi maksetaan omalle Platinalle viimeistään kurssipäivää edeltävänä päivänä \n·  Saat ZOOM-linkin kurssille\, materiaalin ja kuitin koulutuksesta sähköpostiisi platinasi kautta\, kun olet maksanut kurssin platinallesi \n·  Platinat ilmoittavat kurssille tulijat sähköpostitse \npaivi.jarvilehto.kylanpaa@gmail.com \n·  Platinat maksavat kurssimaksut Päivi Järvilehto-Kylänpään tilille \nFI06 5258 0920 0420 80 \n  \nZoomiin tarvitset: \n• Tulostetun materiaalin \n• Korostustussi \n• Kansion materiaaleja varten \n  \nOlet lämpimästi tervetullut kursseille! \n  \nTerveisin \nPäivi Järvilehto-Kylänpää
URL:https://intra.ivmglobal.net/event/nutriway-module-3-zoom-7/
CATEGORIES:Nutriway-koulutus
END:VEVENT
BEGIN:VEVENT
DTSTART;TZID=Europe/Helsinki:20241117T150000
DTEND;TZID=Europe/Helsinki:20241117T180000
DTSTAMP:20260422T042910
CREATED:20241106T175034Z
LAST-MODIFIED:20241106T175034Z
UID:12325-1731855600-1731866400@intra.ivmglobal.net
SUMMARY:Nutriway Module 2 - Zoom
DESCRIPTION:Hei! \n  \nPidän Nutriway Module 2 –kurssin ZOOMissa. \nKurssilla painotetaan miten puhdistusohjelman\, XS-tuotteita ja bodykey painonhallintaa yhdistämällä voit vaikuttaa omaan hyvinvointiisi.  \n\nAika: su 17.11.2024 klo 15-18 \n\nPaikka: ZOOM \n\nHinta: 15 € \n\nSitova ilmoittautuminen oman Platinan kautta viimeistään la 16.11.2024. \nHUOM! Kurssin maksu 15€ omalle Platinalle viimeistään la 16.11.2024. \nKun olet ilmoittautunut ja maksanut kurssin Platinallesi\, hän lähettää sinulle la 16.11.2024 ZOOM-linkin kurssille sekä kurssimateriaalin sähköpostitse. \n  \nPlatinat maksavat Tarja Mäkisen tilille FI62 1252 3500002321 \n\nLämpimästi tervetuloa kurssille! \n\nTarja Mäkinen \n\n\nALLA LISÄTIETOA KURSSISTA: \n\n\n\n\nModule 2: Painonhallinta\, puhdistusohjelma ja XS\, urheilijan hyvinvointi   \nNUTRIWAY  painonhallinta-\, puhdistus- ja hyvinvointikurssi\, kesto 3\,5h\, hinta 15e \nSuoritettuasi Nutriway modulit 1 (peruskurssi) ja  2 (Bodykey) pätevöidyt Nutriway Coach  tasolle \nKurssilla saat tietoa siitä\, miten painonhallinta\, hyvinvointi ja urheilu liittyvät toisiinsa. Opit\, miksi puhdistus–painonhallintaohjelma on hyvä keino silloin\, kun halutaan saavuttaa kokonaisvaltaisen hyvinvoinnin. Opit keskeiset Amwayn tuotteet\, joita tarvitaan painonpudotuksessa\, painonhallinnassa ja arkipäivän jaksamisessa. \nKurssin jälkeen osaat tuotteiden ja liikunnan avulla edistää omaa hyvinvointiasi\, jaksamista ja terveyttä ja osaat käyttää tuotteita oikein itse ja suositella niitä muille. Kurssin jälkeen osaat myös itse vetää painonhallintaryhmiä\, joista saat lisätuloja ja hienon myyntikanavan. Osaat myös myydä ja markkinoida Nutriway tuotteita urheilijoille. \n\nTämä kurssi on 2-osainen eli ensin XS_osuus sekä kuntoilijoille että urheilijoille ja sitten toinen osuus painonhallinta\,puhdistus  ja hyvinvointi.
URL:https://intra.ivmglobal.net/event/nutriway-module-2-zoom-6/
CATEGORIES:Nutriway-koulutus
END:VEVENT
BEGIN:VEVENT
DTSTART;TZID=Europe/Helsinki:20241229T180000
DTEND;TZID=Europe/Helsinki:20241229T200000
DTSTAMP:20260422T042910
CREATED:20241209T072125Z
LAST-MODIFIED:20241209T072125Z
UID:12486-1735495200-1735502400@intra.ivmglobal.net
SUMMARY:Nutriway 1 peruskurssi - Zoom
DESCRIPTION:Hyvinvointi ja terveys on elämän kantava voima! \n  \nTule NUTRIWAYn kurssille ZOOMiin. \nOpit hyödyntämään laadukkaita tuotteita sekä oman ja läheisten terveyden tueksi että suosittelemaan niitä muille. \n  \nNUTRIWAY 1 – Peruskurssi \nSU 29.12.2024 \nklo18 – 20 \n  \n\n\nSitova ilmoittautuminen oman Platinan kautta viimeistään kurssipäivää edeltävänä päivänä. \n\n\n  \n\n\nHUOM! Kurssin maksu 15€/kurssi maksetaan omalle Platinalle viimeistään kurssipäivää edeltävänä päivänä \n\n\n  \n\n\nSaat ZOOM-linkin kurssille\, materiaalin ja kuitin koulutuksesta sähköpostiisi platinasi kautta\, kun olet maksanut kurssin platinallesi \n\n\n  \n\n\nPlatinat ilmoittavat kurssille tulijat sähköpostitse \n\n\npaivi.jarvilehto.kylanpaa@gmail.com \n  \n\n\nPlatinat maksavat kurssimaksut tilille \n\n\nFI06 5258 0920 0420 80 / Päivi Järvilehto-Kylänpää \n  \nZoomiin tarvitset: \n• Tulostetun materiaalin \n• Korostustussi \n• Kansion materiaaleja varten \n  \nOlet lämpimästi tervetullut kurssille! \n  \nTerveisin \nPäivi Järvilehto-Kylänpää \n  \n************************** \nLISÄTIETOA KURSSISTA: \n  \nNUTRIWAY MODULE 1/ PERUSKURSSI \nPeruskurssin käytyäsi olet pätevöitynyt Nutriway Consult -tasolle \n  \nKurssilla saat tietoa Nutriwayn laadukkaista tuotteista: \n• Opit perusasiat vitamiineista ja muista ravintolisistä. \n• Opit ymmärtämään mikä on ravintolisien merkitys hyvinvoinnille. \n• Kurssin jälkeen osaat arvioida oman ravintolisä tarpeesi ja suositella tuotteita myös asiakkaillesi. \n• Kurssin jälkeen osaat myös pitää Hyvinvointi-illan Nutriway tuotteiden parissa. \n  \nPeruskurssi on pohjana Nutriwayn jatkokursseille Module 2 ja Module 3
URL:https://intra.ivmglobal.net/event/nutriway-1-peruskurssi-zoom/
CATEGORIES:Nutriway-koulutus
END:VEVENT
BEGIN:VEVENT
DTSTART;TZID=Europe/Helsinki:20250612T180000
DTEND;TZID=Europe/Helsinki:20250612T210000
DTSTAMP:20260422T042910
CREATED:20250602T093129Z
LAST-MODIFIED:20250602T093129Z
UID:12999-1749751200-1749762000@intra.ivmglobal.net
SUMMARY:Nutriway Module 1\, Espoo/Zoom
DESCRIPTION:Hei! \nPidän Nutriway Module 1 -kurssin Espoossa livenä ja mahdollisuus myös osallistua etänä zoomin kautta. \nAika: To 12.6.2025 klo 18-21.00 \nPaikka:\nKurssi pidetään Espoon Olarissa osoitteessa Kauneushoitola Studio 4 A  Komeetankuja 4 A (sisäpihan puolelta sisään) sekä myös Zoomissa. \nHinta: 15 € \n\nSitova ilmoittautuminen oman Platinan kautta viimeistään ke 11.6.2025 \nHUOM! Kurssin maksu 15€ omalle Platinalle viimeistään 11.6.2025. \nKun olet ilmoittautunut ja maksanut kurssin Platinallesi\, hän lähettää etänä osallistuville ke 11.6.2025 ZOOM-linkin kurssille sekä kurssimateriaalin sähköpostitse. Muista siis ilmoittaa myös sähköpostisi. \nTässä myös tilinumero (saaja Tarja Mäkinen) FI62 1252 3500 0023 21 \n\nLämpimästi tervetuloa kurssille! \nTarja Mäkinen \n\n\nALLA LISÄTIETOA KURSSISTA: \nMODULE 1: PERUSKURSSI \nNUTRIWAY peruskurssi \nPeruskurssin käytyäsi olet pätevöitynyt Nutriway Consult -tasolle \nKurssilla saat tietoa Nutriwayn laadukkaista tuotteista: opit perusasiat vitamiineista ja muista ravintolisistä. Opit ymmärtämään mikä on ravintolisien merkitys hyvinvoinnillesi. Kurssin jälkeen osaat arvioida oman ravintolisätarpeesi ja suositella tuotteita myös asiakkaillesi. Kurssin jälkeen osaat myös pitää Hyvinvointi-illan Nutriway tuotteiden parissa. Peruskurssi on pohjana Nutriwayn jatkokursseille Module 2 (Bodykey ja XS) ja Module 3 (syventävä ravintolisäkurssi) \n\nTarvitset: \nLaitteen\, jossa ZOOM toimii äänen kanssa (tietokone\, kannettava tietokone\, tabletti tai älypuhelin) (Et tarvitse Web-kameraa) \nInternet-yhteyden \nMuistiinpanovälineet \nEväät
URL:https://intra.ivmglobal.net/event/nutriway-module-1-espoo-zoom-2/
LOCATION:Studio 4A\, Komeetankuja 4 A\, Olari Espoo
CATEGORIES:Nutriway-koulutus
END:VEVENT
BEGIN:VEVENT
DTSTART;TZID=Europe/Helsinki:20250615T190000
DTEND;TZID=Europe/Helsinki:20250615T210000
DTSTAMP:20260422T042910
CREATED:20250606T162551Z
LAST-MODIFIED:20250606T162551Z
UID:13009-1750014000-1750021200@intra.ivmglobal.net
SUMMARY:Nutriway Module 1 - Zoom
DESCRIPTION:Hyvinvointi ja terveys on elämän kantava voima! ??☀️\n\nTule NUTRIWAYn kurssille ZOOMiin.\n\nOpit hyödyntämään laadukkaita tuotteita sekä oman ja läheisten terveyden tueksi että suosittelemaan niitä muille.\n\nNUTRIWAY 1 – Peruskurssi\nSU 15.6.2025\nklo19 – 21\n\nSitova ilmoittautuminen oman Platinan kautta viimeistään kurssipäivää edeltävänä päivänä.\n\nHUOM! Kurssin maksu 15€/kurssi maksetaan omalle Platinalle viimeistään kurssipäivää edeltävänä päivänä\n\nSaat ZOOM-linkin kurssille\, materiaalin ja kuitin koulutuksesta sähköpostiisi platinasi kautta\, kun olet maksanut kurssin platinallesi\n\nPlatinat ilmoittavat kurssille tulijat sähköpostitse\n\npaivi.jarvilehto.kylanpaa@gmail.com\n\nPlatinat maksavat kurssimaksut tilille\n\nFI06 5258 0920 0420 80 / Päivi Järvilehto-Kylänpää\n\nZoomiin tarvitset:\n\n• Tulostetun materiaalin\n\n• Korostustussi\n\n• Kansion materiaaleja varten\n\nOlet lämpimästi tervetullut kurssille!\n\nTerveisin\n\nPäivi Järvilehto-Kylänpää\n\n**************************\n\nLISÄTIETOA KURSSISTA:\n\n\nNUTRIWAY MODULE 1/ PERUSKURSSI\n\nPeruskurssin käytyäsi olet pätevöitynyt Nutriway Consult -tasolle\n\n\nKurssilla saat tietoa Nutriwayn laadukkaista tuotteista:\n\n• Opit perusasiat vitamiineista ja muista ravintolisistä.\n\n• Opit ymmärtämään mikä on ravintolisien merkitys hyvinvoinnille.\n\n• Kurssin jälkeen osaat arvioida oman ravintolisä tarpeesi ja suositella tuotteita myös asiakkaillesi.\n\n• Kurssin jälkeen osaat myös pitää Hyvinvointi-illan Nutriway tuotteiden parissa.\n\n\nPeruskurssi on pohjana Nutriwayn jatkokursseille Module 2 ja Module 3\n\n?❤️\nNäytä lainattu teksti
URL:https://intra.ivmglobal.net/event/nutriway-module-1-zoom-6/
CATEGORIES:Nutriway-koulutus,Zoom
END:VEVENT
BEGIN:VEVENT
DTSTART;TZID=Europe/Helsinki:20250717T173000
DTEND;TZID=Europe/Helsinki:20250717T210000
DTSTAMP:20260422T042910
CREATED:20250711T181810Z
LAST-MODIFIED:20250711T181810Z
UID:13164-1752773400-1752786000@intra.ivmglobal.net
SUMMARY:Nutriway Module 2- Espoo/Zoom
DESCRIPTION:Hei! \nPidän Nutriway Module 2 -kurssin Espoossa livenä ja mahdollisuus myös osallistua etänä zoomin kautta. \nAika: To 17.7.2025 klo 17.30-21.00 \nPaikka:\nKurssi pidetään Espoon Olarissa osoitteessa Kauneushoitola Studio 4 A  Komeetankuja 4 A (sisäpihan puolelta sisään) sekä myös Zoomissa. \nHinta: 15 € \n\nSitova ilmoittautuminen oman Platinan kautta viimeistään ke 17.7.2025 \nHUOM! Kurssin maksu 15€ omalle Platinalle viimeistään 17.7.2025. \nKun olet ilmoittautunut ja maksanut kurssin Platinallesi\, hän lähettää etänä osallistuville ke 17.7.2025 ZOOM-linkin kurssille sekä kurssimateriaalin sähköpostitse. Muista siis ilmoittaa myös sähköpostisi. \nTässä myös tilinumero (saaja Tarja Mäkinen) FI62 1252 3500 0023 21 \nKurssille voi osallistua vaikkei ole käynyt module 1 kurssia. \nLämpimästi tervetuloa kurssille! \nTarja Mäkinen
URL:https://intra.ivmglobal.net/event/nutriway-module-2-espoo-zoom/
LOCATION:Studio 4A\, Komeetankuja 4 A\, Olari Espoo
CATEGORIES:Nutriway-koulutus,Zoom
END:VEVENT
END:VCALENDAR