﻿BEGIN:VCALENDAR
VERSION:2.0
PRODID:-//IVM Global - ECPv6.5.2//NONSGML v1.0//EN
CALSCALE:GREGORIAN
METHOD:PUBLISH
X-ORIGINAL-URL:https://intra.ivmglobal.net
X-WR-CALDESC:Events for IVM Global
REFRESH-INTERVAL;VALUE=DURATION:PT1H
X-Robots-Tag:noindex
X-PUBLISHED-TTL:PT1H
BEGIN:VTIMEZONE
TZID:Europe/Helsinki
BEGIN:DAYLIGHT
TZOFFSETFROM:+0200
TZOFFSETTO:+0300
TZNAME:EEST
DTSTART:20230326T010000
END:DAYLIGHT
BEGIN:STANDARD
TZOFFSETFROM:+0300
TZOFFSETTO:+0200
TZNAME:EET
DTSTART:20231029T010000
END:STANDARD
END:VTIMEZONE
BEGIN:VEVENT
DTSTART;TZID=Europe/Helsinki:20230910T110000
DTEND;TZID=Europe/Helsinki:20230910T143000
DTSTAMP:20260420T180939
CREATED:20230815T135617Z
LAST-MODIFIED:20230824T060836Z
UID:10566-1694343600-1694356200@intra.ivmglobal.net
SUMMARY:Nutriway Module 3 - Zoom
DESCRIPTION:Pidän Nutriway Module 3 -kurssin WEBINAARINA ZOOMissa. \nAika: sunnuntai 10.9.2023 klo 11.00-14.30 \nPaikka: ZOOM \nHinta: 15 e \nSitova ilmoittautuminen oman Platinan kautta viimeistään la 9.9.2023 \nHUOM! Kurssin maksu omalle Platinalle viimeistään la 9.9.2023 \nPlatinat maksavat Tarja Mäkisen tilille FI62 1252 3500002321 \nKun olet ilmoittautunut ja maksanut kurssin Platinallesi\, hän lähettää sinulle la 9.9.2023  ZOOM-linkin kurssille sekä kurssimateriaalin sähköpostitse.  \nLämpimästi tervetuloa kurssille! 🙂 \nTarja Mäkinen \nALLA LISÄTIETOA KURSSISTA: \nModule 3: Syventävä kurssi\, kesto 4h\, \nSuoritettuasi kaikki kolme Nutriway modulia (Peruskurssi\, Bodykey ja Syventävä kurssi) pätevöidyt Nutriway Master -tasolle. \nNutriway 3-kurssilla saat tietoa siitä\, miten ihmisen energiantuotanto ja immuniteetti toimivat tai mitä sinussa tapahtuu\, kun olet stressaantunut. Opit luiden\, nivelten\, silmien\, ihon ja verenkierron peruskäsitteet ja miten niiden hyvää toimintakykyä voidaan parantaa. Opit erityisryhmien erot\, kuten raskauden suunnittelu/raskaus/imetys\, naiset\, miehet\, lapset. Opit soveltamaan tuotetietoa ja kokoamaan tuotepaketteja erilaisiin terveyden haasteisiin. \nKurssi on jatkoa Peruskurssille (Module 1)\, ja Painonhallinta\, puhdistus sekä XS-tuotteet/urheilu (Module 2). \nMukaan tarvitset: \nMuistiinpanovälineet \nKansion materiaaleja varten \nTämä on siis virallinen Nutriway Module 3 kurssi\, jonka käytyäsi ja läpäistyäsi loppukokeen voit siis käyttää titteliä ”Nutriway Master”!
URL:https://intra.ivmglobal.net/event/nutriway-module-3-zoom-3/
CATEGORIES:Nutriway-koulutus
END:VEVENT
END:VCALENDAR