﻿BEGIN:VCALENDAR
VERSION:2.0
PRODID:-//IVM Global - ECPv6.5.2//NONSGML v1.0//EN
CALSCALE:GREGORIAN
METHOD:PUBLISH
X-ORIGINAL-URL:https://intra.ivmglobal.net
X-WR-CALDESC:Events for IVM Global
REFRESH-INTERVAL;VALUE=DURATION:PT1H
X-Robots-Tag:noindex
X-PUBLISHED-TTL:PT1H
BEGIN:VTIMEZONE
TZID:Europe/Helsinki
BEGIN:DAYLIGHT
TZOFFSETFROM:+0200
TZOFFSETTO:+0300
TZNAME:EEST
DTSTART:20230326T010000
END:DAYLIGHT
BEGIN:STANDARD
TZOFFSETFROM:+0300
TZOFFSETTO:+0200
TZNAME:EET
DTSTART:20231029T010000
END:STANDARD
END:VTIMEZONE
BEGIN:VEVENT
DTSTART;TZID=Europe/Helsinki:20230219T120000
DTEND;TZID=Europe/Helsinki:20230219T150000
DTSTAMP:20260421T052933
CREATED:20230213T061555Z
LAST-MODIFIED:20230213T061911Z
UID:9858-1676808000-1676818800@intra.ivmglobal.net
SUMMARY:Nutriway Module 2 - Zoom
DESCRIPTION:Hei! \n  \nPidän Nutriway Module 2 –kurssin ZOOMissa. \nKurssi on 2-osainen eli ensin XS-sarjan tuotteet ja sitten painonhallinta sekä oma hyvinvointi. \nAika: Sunnuntai 19.2.2023 klo 12 – 15 \nPaikka: ZOOM \nHinta: 15 € \nSitova ilmoittautuminen oman Platinan kautta viimeistään la 18.2.2023. \nHUOM! Kurssin maksu 15€ omalle Platinalle viimeistään la 18.2.2023. \nKun olet ilmoittautunut ja maksanut kurssin Platinallesi\, hän lähettää sinulle la 18.3.2023 ZOOM-linkin kurssille sekä kurssimateriaalin sähköpostitse. \n  \nPlatinat maksavat Tarja Mäkisen tilille FI62 1252 3500002321 \nLämpimästi tervetuloa kurssille! \nTarja Mäkinen \nALLA LISÄTIETOA KURSSISTA: \n\n\n\nModule 2: (Bodykey) painonhallinta ja XS\, urheilijan hyvinvointi  (uudistettu materiaali ja XS osuudella alkaa) \nNUTRIWAY (Bodykey) painonhallinta- ja hyvinvointikurssi\, kesto 4h\, hinta 10e \nSuoritettuasi Nutriway modulit 1 (peruskurssi) ja  2 (Bodykey) pätevöidyt Nutriway Coach  tasolle \nKurssilla saat tietoa siitä\, miten painonhallinta\, hyvinvointi ja urheilu liittyvät toisiinsa. Opit\, miksi Bodykey –painonhallintaohjelma on hyvä keino silloin\, kun halutaan saavuttaa pysyvä painonhallinta. Opit keskeiset Amwayn tuotteet\, joita tarvitaan painonpudotuksessa\, painonhallinnassa ja arkipäivän jaksamisessa. \nKurssin jälkeen osaat tuotteiden ja liikunnan avulla edistää omaa hyvinvointiasi\, jaksamista ja terveyttä ja osaat käyttää tuotteita oikein itse ja suositella niitä muille. Kurssin jälkeen osaat myös itse vetää painonhallintaryhmiä\, joista saat lisätuloja ja hienon myyntikanavan. Osaat myös myydä ja markkinoida Nutriway tuotteita urheilijoille. \n\nTämä kurssi on 2-osainen eli ensin XS_osuus sekä kuntoilijoille että urheilijoille ja sitten toinen osuus painonhallinta ja hyvinvointi.
URL:https://intra.ivmglobal.net/event/nutriway-module-2-zoom/
CATEGORIES:Nutriway-koulutus
END:VEVENT
END:VCALENDAR