﻿BEGIN:VCALENDAR
VERSION:2.0
PRODID:-//IVM Global - ECPv6.5.2//NONSGML v1.0//EN
CALSCALE:GREGORIAN
METHOD:PUBLISH
X-WR-CALNAME:IVM Global
X-ORIGINAL-URL:https://intra.ivmglobal.net
X-WR-CALDESC:Events for IVM Global
REFRESH-INTERVAL;VALUE=DURATION:PT1H
X-Robots-Tag:noindex
X-PUBLISHED-TTL:PT1H
BEGIN:VTIMEZONE
TZID:Europe/Helsinki
BEGIN:DAYLIGHT
TZOFFSETFROM:+0200
TZOFFSETTO:+0300
TZNAME:EEST
DTSTART:20240331T010000
END:DAYLIGHT
BEGIN:STANDARD
TZOFFSETFROM:+0300
TZOFFSETTO:+0200
TZNAME:EET
DTSTART:20241027T010000
END:STANDARD
END:VTIMEZONE
BEGIN:VEVENT
DTSTART;TZID=Europe/Helsinki:20240204T180000
DTEND;TZID=Europe/Helsinki:20240204T210000
DTSTAMP:20260420T091119
CREATED:20231218T205242Z
LAST-MODIFIED:20231218T205242Z
UID:11022-1707069600-1707080400@intra.ivmglobal.net
SUMMARY:Nutriway Module 3
DESCRIPTION:Hyvinvointi ja terveys on elämän kantava voima! \n  \nTule NUTRIWAYn kursseille ZOOMiin. Opit hyödyntämään laadukkaita tuotteita sekä oman ja läheisten terveyden tueksi että suosittelemaan niitä muille. \n  \nNUTRIWAY 1 – Peruskurssi \nSU 7.1.2024 \nklo18 – 20 \nNUTRIWAY 2 – kehonpuhdistus\, painonhallinta ja XS \nSU 21.1.2024 \nklo 18 – n.21 \nNUTRIWAY 3 – syventävä kurssi \nSU 4.2.2024 \nklo 18-n.21 \n  \n\n\nSitova ilmoittautuminen oman Platinan kautta viimeistään kurssipäivää edeltävänä päivänä. \n\n\n  \n\n\nHUOM! Kurssin maksu 15€/kurssi maksetaan omalle Platinalle viimeistään kurssipäivää edeltävänä päivänä \n\n\n  \n\n\nSaat ZOOM-linkin kurssille\, materiaalin ja kuitin koulutuksesta sähköpostiisi platinasi kautta\, kun olet maksanut kurssin platinallesi \n\n\n  \n\n\nPlatinat ilmoittavat kurssille tulijat sähköpostitse \n\n\npaivi.jarvilehto.kylanpaa@gmail.com \n  \n\n\nPlatinat maksavat kurssimaksut Päivi Järvilehto-Kylänpään tilille \n\n\nFI06 5258 0920 0420 80 \n  \nZoomiin tarvitset: \n• Tulostetun materiaalin \n• Korostustussi \n• Kansion materiaaleja varten \n  \nOlet lämpimästi tervetullut kursseille! \n  \nTerveisin \nPäivi Järvilehto-Kylänpää \n  \n************************** \nLISÄTIETOA KURSSEISTA: \n  \nNUTRIWAY MODULE 1/ PERUSKURSSI \nPeruskurssin käytyäsi olet pätevöitynyt Nutriway Consult -tasolle \n  \nKurssilla saat tietoa Nutriwayn laadukkaista tuotteista: \n• Opit perusasiat vitamiineista ja muista ravintolisistä. \n• Opit ymmärtämään mikä on ravintolisien merkitys hyvinvoinnille. \n• Kurssin jälkeen osaat arvioida oman ravintolisä tarpeesi ja suositella tuotteita myös asiakkaillesi. \n• Kurssin jälkeen osaat myös pitää Hyvinvointi-illan Nutriway tuotteiden parissa. \n  \nPeruskurssi on pohjana Nutriwayn jatkokursseille Module 2 ja Module 3 \nNUTRIWAY MODULE 2/ KEHONPUHDISTUSOHJELMA\,  PAINONHALLINTA JA URHEILIJAN HYVINVOINTIKURSSI \n  \nSuoritettuasi Nutriway modulit 1 ja 2 pätevöidyt Nutriway Coach tasolle \n  \nKurssilla saat tietoa siitä miten lisäät hyvinvointiasi ja otat askelia kokonaisvaltaiseen hyvinvointiin kehonpuhdistysohjelman\, painonhallinnan ja urheilun kautta. \n  \n• Opit keskeiset Amwayn tuotteet\, joita tarvitaan kehonpuhdistuksessa\, painonpudotuksessa\, painonhallinnassa\, liikunnassa ja arkipäivän jaksamisessa. \n• Kurssin jälkeen osaat sekä hyödyntää kehonpuhdistusohjelmaa että edistää tuotteiden ja liikunnan avulla omaa hyvinvointiasi\, jaksamista ja terveyttä. Osaat käyttää tuotteita oikein itse ja suositella niitä muille. \n• Kurssin jälkeen osaat myös itse vetää kehonpuhdistusryhmiä joista saat kasvua ryhmääsi ja liiketoimintaasi. \n• Osaat myös myydä ja markkinoida Nutriway tuotteita urheilijoille. \n  \nKurssi on jatkoa Peruskurssille (Module 1) \n  \nNUTRIWAY MODULE 3 / SYVENTÄVÄ KURSSI \nSuoritettuasi kaikki kolme Nutriway modulia pätevöidyt Nutriway Master tasolle \n  \n• Kurssilla saat tietoa siitä\, miten ihmisen energiantuotanto ja immuniteetti toimivat\, tai mitä sinussa tapahtuu\, kun olet stressaantunut. \n• Opit luiden\, nivelten\, silmien\, ihon ja verenkierron peruskäsitteet ja miten niiden hyvää toimintakykyä voidaan parantaa. \n• Opit erityisryhmien erot\, kuten raskauden suunnittelu/raskaus/imetys\, naiset\, miehet\, lapset. \n• Opit soveltamaan tuotetietoa ja kokoamaan tuotepaketteja erilaisiin terveyden haasteisiin. \n  \nKurssi on jatkoa Module 1 ja Module 2 kursseille
URL:https://intra.ivmglobal.net/event/nutriway-module-3/
CATEGORIES:Nutriway-koulutus
END:VEVENT
BEGIN:VEVENT
DTSTART;TZID=Europe/Helsinki:20240214T180000
DTEND;TZID=Europe/Helsinki:20240214T210000
DTSTAMP:20260420T091119
CREATED:20240211T080639Z
LAST-MODIFIED:20240211T080639Z
UID:11168-1707933600-1707944400@intra.ivmglobal.net
SUMMARY:Nutriway Module 1 Espoo + Zoom
DESCRIPTION:Pidän  Nutriway Module 1 -kurssin Espoossa.  \nKurssille voi osallistua myös zoomin kautta!! \n  \nAika: Torstai 15.2.2024 klo 18-21.00 \n  \nPaikka: Hoitola studio 4 A\, Komeetankuja 4A (sisäpihan puolelta sisään) Olari\, Espoo \nParkkipaikkana käytetään Olarin prisman ulkona olevaa parkkitasoa. Sieltä on näköyhteys kurssipaikkaan . \nKävelymatka 1-2min. \n  \nHinta: 15 € \n  \nSitova ilmoittautuminen oman Platinan kautta viimeistään ke 14.2.2024 \nHUOM! Kurssin maksu 15€ omalle Platinalle viimeistään ke 14.2.2024 \nKun olet ilmoittautunut ja maksanut kurssin Platinallesi\, hän lähettää etänä osallistuville ke 14.2.2024 ZOOM-linkin kurssille sekä kurssimateriaalin sähköpostitse. \n  \n  \nLämpimästi tervetuloa kurssille! \n  \nTarja Mäkinen \nALLA LISÄTIETOA KURSSISTA: \nMODULE 1: PERUSKURSSI \nNUTRIWAY peruskurssi \nPeruskurssin käytyäsi olet pätevöitynyt Nutriway Consult -tasolle \nKurssilla saat tietoa Nutriwayn laadukkaista tuotteista: opit perusasiat vitamiineista ja muista ravintolisistä. Opit ymmärtämään mikä on ravintolisien merkitys hyvinvoinnillesi. Kurssin jälkeen osaat arvioida oman ravintolisätarpeesi ja suositella tuotteita myös asiakkaillesi. Kurssin jälkeen osaat myös pitää Hyvinvointi-illan Nutriway tuotteiden parissa. Peruskurssi on pohjana Nutriwayn jatkokursseille Module 2 (Bodykey ja XS) ja Module 3 (syventävä ravintolisäkurssi) \nTarvitset: \nLaitteen\, jossa ZOOM toimii äänen kanssa (tietokone\, kannettava tietokone\, tabletti tai älypuhelin) (Et tarvitse Web-kameraa) \n\nInternet-yhteyden \n\nMuistiinpanovälineet \n\nKorostustussi \n\nKansion materiaaleja varten
URL:https://intra.ivmglobal.net/event/nutriway-module-1-espoo-zoom/
LOCATION:Studio 4A\, Komeetankuja 4 A\, Olari Espoo
CATEGORIES:Nutriway-koulutus
END:VEVENT
END:VCALENDAR