﻿BEGIN:VCALENDAR
VERSION:2.0
PRODID:-//IVM Global - ECPv6.5.2//NONSGML v1.0//EN
CALSCALE:GREGORIAN
METHOD:PUBLISH
X-WR-CALNAME:IVM Global
X-ORIGINAL-URL:https://intra.ivmglobal.net
X-WR-CALDESC:Events for IVM Global
REFRESH-INTERVAL;VALUE=DURATION:PT1H
X-Robots-Tag:noindex
X-PUBLISHED-TTL:PT1H
BEGIN:VTIMEZONE
TZID:Europe/Helsinki
BEGIN:DAYLIGHT
TZOFFSETFROM:+0200
TZOFFSETTO:+0300
TZNAME:EEST
DTSTART:20220327T010000
END:DAYLIGHT
BEGIN:STANDARD
TZOFFSETFROM:+0300
TZOFFSETTO:+0200
TZNAME:EET
DTSTART:20221030T010000
END:STANDARD
END:VTIMEZONE
BEGIN:VEVENT
DTSTART;TZID=Europe/Helsinki:20221211T180000
DTEND;TZID=Europe/Helsinki:20221211T210000
DTSTAMP:20260421T064625
CREATED:20221110T172052Z
LAST-MODIFIED:20221110T172207Z
UID:9493-1670781600-1670792400@intra.ivmglobal.net
SUMMARY:Nutriway Module 2 - Zoom
DESCRIPTION:NUTRIWAY MODULE 2: (BODYKEY) PAINONHALLINTA- JA URHEILIJAN HYVINVOINTIKURSSI\nAIKA: SU 11.12. klo 18 – n.21 \nPAIKKA: Zoom \nHINTA: 15€ (maksetaan tilille ennen kurssin alkua) \nVETÄJÄ: Platina Päivi Järvilehto-Kylänpää \nSITOVAT ILMOITTAUTUMISET: Oman ylälinjan platinan kautta to 8.12. mennessä \nKURSSIMATERIAALI ja MAKSUTIEDOT: Saat tulostettavan materiaalin\, maksutiedot ja kuitin kurssista sähköpostitse \nSuoritettuasi Nutriway modulit 1 (peruskurssi) ja 2 (Bodykey) pätevöidyt Nutriway Coach tasolle \n\nKurssilla saat tietoa siitä\, miten painonhallinta\, hyvinvointi ja urheilu liittyvät toisiinsa.\nOpit keskeiset Amwayn tuotteet\, joita tarvitaan painonpudotuksessa\, painonhallinnassa ja arkipäivän jaksamisessa.\nKurssin jälkeen osaat tuotteiden ja liikunnan avulla edistää omaa hyvinvointiasi\, jaksamista ja terveyttä ja osaat käyttää tuotteita oikein itse ja suositella niitä muille.\nKurssin jälkeen osaat myös itse vetää painonhallintaryhmiä\, joista saat lisätuloja ja hienon myyntikanavan.\nOsaat myös myydä ja markkinoida Nutriway tuotteita urheilijoille.\n\nKurssi on jatkoa Peruskurssille (Module 1) ja se on myös edellytyksenä syventävälle ravintolisäkurssille (Module 3) osallistumiselle. \nZoomiin tarvitset: \n\nMuistiinpanovälineet\nKorostustusin\nKansion materiaaleja varten\n\nLämpimästi tervetuloa! Nähdään zoomissa! =) \nPäivi Järvilehto-Kylänpää \n 
URL:https://intra.ivmglobal.net/event/nutriway-module-2/
CATEGORIES:Nutriway-koulutus
END:VEVENT
END:VCALENDAR