﻿BEGIN:VCALENDAR
VERSION:2.0
PRODID:-//IVM Global - ECPv6.5.2//NONSGML v1.0//EN
CALSCALE:GREGORIAN
METHOD:PUBLISH
X-WR-CALNAME:IVM Global
X-ORIGINAL-URL:https://intra.ivmglobal.net
X-WR-CALDESC:Events for IVM Global
REFRESH-INTERVAL;VALUE=DURATION:PT1H
X-Robots-Tag:noindex
X-PUBLISHED-TTL:PT1H
BEGIN:VTIMEZONE
TZID:Europe/Helsinki
BEGIN:DAYLIGHT
TZOFFSETFROM:+0200
TZOFFSETTO:+0300
TZNAME:EEST
DTSTART:20220327T010000
END:DAYLIGHT
BEGIN:STANDARD
TZOFFSETFROM:+0300
TZOFFSETTO:+0200
TZNAME:EET
DTSTART:20221030T010000
END:STANDARD
END:VTIMEZONE
BEGIN:VEVENT
DTSTART;TZID=Europe/Helsinki:20221011T180000
DTEND;TZID=Europe/Helsinki:20221011T210000
DTSTAMP:20260421T094919
CREATED:20220913T141847Z
LAST-MODIFIED:20220915T100725Z
UID:9163-1665511200-1665522000@intra.ivmglobal.net
SUMMARY:Nutriway Module 3 - Espoo\, Komeetankuja 4A (Olari) + Zoom mahdollisuus
DESCRIPTION:Hei\, \nPidän Nutriway Module 3 -kurssin Espoossa JA ZOOMissa. \nMyös kertaajat ovat tervetulleita! \nAika: tiistai 11.102022 klo 18.00 – noin 21.00 \nPaikka: Studio 4A\, Komeetankuja 4A\, Olari\, Espoo JA ZOOM \nHinta: 15 e \nSitova ilmoittautuminen oman Platinan kautta viimeistään ma 10.10. 2022 \nHUOM! Kurssin maksu omalle Platinalle viimeistään ma 10.10.2022 \nKun olet ilmoittautunut ja maksanut kurssin Platinallesi\, hän lähettää sinulle ma 10.10.2022  ZOOM-linkin kurssille sekä kurssimateriaalin sähköpostitse.  \nPlatina Joel Lingmanin tili \nFI48 8020 4710 2006 77 \nLämpimästi tervetuloa kurssille! 🙂 \nJoel Lingman \nALLA LISÄTIETOA KURSSISTA: \nModule 3: Syventävä kurssi\, kesto 3h\, \nSuoritettuasi kaikki kolme Nutriway modulia (Peruskurssi\, Bodykey ja Syventävä kurssi) pätevöidyt Nutriway Master -tasolle. \nNutriway 3-kurssilla saat tietoa siitä\, miten ihmisen energiantuotanto ja immuniteetti toimivat tai mitä sinussa tapahtuu\, kun olet stressaantunut. Opit luiden\, nivelten\, silmien\, ihon ja verenkierron peruskäsitteet ja miten niiden hyvää toimintakykyä voidaan parantaa. Opit erityisryhmien erot\, kuten raskauden suunnittelu/raskaus/imetys\, naiset\, miehet\, lapset. Opit soveltamaan tuotetietoa ja kokoamaan tuotepaketteja erilaisiin terveyden haasteisiin. \nKurssi on jatkoa Peruskurssille (Module 1)\, ja Painonhallinta\, hyvinvointi sekä XS-tuotteet/urheilu (Module 2). \nMukaan tarvitset: \nMuistiinpanovälineet \nKansion materiaaleja varten \nTämä on siis virallinen Nutriway Module 3 kurssi\, jonka käytyäsi ja läpäistyäsi loppukokeen voit siis käyttää titteliä ”Nutriway Master”!
URL:https://intra.ivmglobal.net/event/nutriway-module-3-espoo-komeetankuja-4a-olari-zoom-mahdollisuus/
CATEGORIES:Nutriway-koulutus
END:VEVENT
END:VCALENDAR