﻿BEGIN:VCALENDAR
VERSION:2.0
PRODID:-//IVM Global - ECPv6.5.2//NONSGML v1.0//EN
CALSCALE:GREGORIAN
METHOD:PUBLISH
X-WR-CALNAME:IVM Global
X-ORIGINAL-URL:https://intra.ivmglobal.net
X-WR-CALDESC:Events for IVM Global
REFRESH-INTERVAL;VALUE=DURATION:PT1H
X-Robots-Tag:noindex
X-PUBLISHED-TTL:PT1H
BEGIN:VTIMEZONE
TZID:Europe/Helsinki
BEGIN:DAYLIGHT
TZOFFSETFROM:+0200
TZOFFSETTO:+0300
TZNAME:EEST
DTSTART:20240331T010000
END:DAYLIGHT
BEGIN:STANDARD
TZOFFSETFROM:+0300
TZOFFSETTO:+0200
TZNAME:EET
DTSTART:20241027T010000
END:STANDARD
END:VTIMEZONE
BEGIN:VEVENT
DTSTART;TZID=Europe/Helsinki:20240210T130000
DTEND;TZID=Europe/Helsinki:20240210T170000
DTSTAMP:20260420T061704
CREATED:20240127T095018Z
LAST-MODIFIED:20240127T095018Z
UID:11142-1707570000-1707584400@intra.ivmglobal.net
SUMMARY:Artistry Module 1 Vaasa
DESCRIPTION:pidän Artistry Moduli 1 kurssin 10.2 klo 13-17.\nPaikka: Vaasan ABC Airport\nIlmoittautumiset minulle ylälinjan Platinan ja IVM Globalin kautta viimeistään 9.2.\n\nYstävällisin terveisin\,\nIrma
URL:https://intra.ivmglobal.net/event/artistry-module-1-vaasa-2/
LOCATION:ABC Airport (Vaasa)\, Kiitokaari 2\, Vaasa\, 65380
CATEGORIES:Artistry-koulutus,OBM Vaasa
END:VEVENT
END:VCALENDAR