﻿BEGIN:VCALENDAR
VERSION:2.0
PRODID:-//IVM Global - ECPv6.5.2//NONSGML v1.0//EN
CALSCALE:GREGORIAN
METHOD:PUBLISH
X-ORIGINAL-URL:https://intra.ivmglobal.net
X-WR-CALDESC:Events for IVM Global
REFRESH-INTERVAL;VALUE=DURATION:PT1H
X-Robots-Tag:noindex
X-PUBLISHED-TTL:PT1H
BEGIN:VTIMEZONE
TZID:Europe/Helsinki
BEGIN:DAYLIGHT
TZOFFSETFROM:+0200
TZOFFSETTO:+0300
TZNAME:EEST
DTSTART:20240331T010000
END:DAYLIGHT
BEGIN:STANDARD
TZOFFSETFROM:+0300
TZOFFSETTO:+0200
TZNAME:EET
DTSTART:20241027T010000
END:STANDARD
END:VTIMEZONE
BEGIN:VEVENT
DTSTART;TZID=Europe/Helsinki:20240406T130000
DTEND;TZID=Europe/Helsinki:20240406T170000
DTSTAMP:20260420T020459
CREATED:20240319T163044Z
LAST-MODIFIED:20240319T163044Z
UID:11362-1712408400-1712422800@intra.ivmglobal.net
SUMMARY:Artistry Module 1 - Vaasa
DESCRIPTION:Pidän Artistry Module 1 kurssin Vaasan ABC Airportilla 6.4 klo 13-17.\n\nIlmoittautumiset minulle ylälinjan Platinan kautta 5.4 mennessä.\n\nKiitos ja hyvää päivän jatkoa!\n\nTerv\, Irma
URL:https://intra.ivmglobal.net/event/artistry-module-1-vaasa-3/
LOCATION:ABC Airport (Vaasa)\, Kiitokaari 2\, Vaasa\, 65380
CATEGORIES:Artistry-koulutus
END:VEVENT
END:VCALENDAR