﻿BEGIN:VCALENDAR
VERSION:2.0
PRODID:-//IVM Global - ECPv6.5.2//NONSGML v1.0//EN
CALSCALE:GREGORIAN
METHOD:PUBLISH
X-ORIGINAL-URL:https://intra.ivmglobal.net
X-WR-CALDESC:Events for IVM Global
REFRESH-INTERVAL;VALUE=DURATION:PT1H
X-Robots-Tag:noindex
X-PUBLISHED-TTL:PT1H
BEGIN:VTIMEZONE
TZID:Europe/Helsinki
BEGIN:DAYLIGHT
TZOFFSETFROM:+0200
TZOFFSETTO:+0300
TZNAME:EEST
DTSTART:20240331T010000
END:DAYLIGHT
BEGIN:STANDARD
TZOFFSETFROM:+0300
TZOFFSETTO:+0200
TZNAME:EET
DTSTART:20241027T010000
END:STANDARD
END:VTIMEZONE
BEGIN:VEVENT
DTSTART;TZID=Europe/Helsinki:20240309T123000
DTEND;TZID=Europe/Helsinki:20240309T153000
DTSTAMP:20260420T032435
CREATED:20240225T181553Z
LAST-MODIFIED:20240225T181553Z
UID:11284-1709987400-1709998200@intra.ivmglobal.net
SUMMARY:Artistry Module 1 Alatemmes
DESCRIPTION:Artistry Moduli1 \nAika: 09.03.2024\, klo.12.30 \nPaikka: Alatemmeksen Kylätalo \nJyväskyläntie 66\, 91930 Alatemmes \nKurssin pitäjä: Platina Sisko Yli-Elsilä \nIlmoittautuminen 07.03.2024 mennessä \nYst.Sisko
URL:https://intra.ivmglobal.net/event/artistry-module-1-alatemmes/
LOCATION:Alatemmeksen kylätalo\, Jyväskyläntie 66\, Liminka\, Pohjoispohjanmaa\, 91930\, Suomi
CATEGORIES:Artistry-koulutus
END:VEVENT
END:VCALENDAR