﻿BEGIN:VCALENDAR
VERSION:2.0
PRODID:-//IVM Global - ECPv6.5.2//NONSGML v1.0//EN
CALSCALE:GREGORIAN
METHOD:PUBLISH
X-WR-CALNAME:IVM Global
X-ORIGINAL-URL:https://intra.ivmglobal.net
X-WR-CALDESC:Events for IVM Global
REFRESH-INTERVAL;VALUE=DURATION:PT1H
X-Robots-Tag:noindex
X-PUBLISHED-TTL:PT1H
BEGIN:VTIMEZONE
TZID:Europe/Helsinki
BEGIN:DAYLIGHT
TZOFFSETFROM:+0200
TZOFFSETTO:+0300
TZNAME:EEST
DTSTART:20220327T010000
END:DAYLIGHT
BEGIN:STANDARD
TZOFFSETFROM:+0300
TZOFFSETTO:+0200
TZNAME:EET
DTSTART:20221030T010000
END:STANDARD
END:VTIMEZONE
BEGIN:VEVENT
DTSTART;TZID=Europe/Helsinki:20221003T173000
DTEND;TZID=Europe/Helsinki:20221003T213000
DTSTAMP:20260421T064711
CREATED:20220919T142703Z
LAST-MODIFIED:20220919T142703Z
UID:9286-1664818200-1664832600@intra.ivmglobal.net
SUMMARY:Artistry Module 1 - Salo
DESCRIPTION:Hei \n  \nTässä Artistry peruskurssi tiedoksi sivuille. \nKiitos teille \nTerveisin Terhi \n  \nKURSSI: Artistry peruskurssi (Module 1) \nAIKA: Ma 3.10. klo 17.30-21.30 \nPAIKKA: Salo VPK talo\, asemakatu 3 \nHINTA: 15€\, ota mukaan käteisenä \nVETÄJÄT: Terhi Laine & Sari Riski \nSITOVAT ILMOITTAUTUMISET: Oman ylälinjan platinan kautta pe 30.9. mennessä
URL:https://intra.ivmglobal.net/event/artistry-module-1-salo/
LOCATION:Salon VPK talo\, Asemakatu 3\, Salo\, Finland
CATEGORIES:Artistry-koulutus
END:VEVENT
END:VCALENDAR