﻿BEGIN:VCALENDAR
VERSION:2.0
PRODID:-//IVM Global - ECPv6.5.2//NONSGML v1.0//EN
CALSCALE:GREGORIAN
METHOD:PUBLISH
X-ORIGINAL-URL:https://intra.ivmglobal.net
X-WR-CALDESC:Events for IVM Global
REFRESH-INTERVAL;VALUE=DURATION:PT1H
X-Robots-Tag:noindex
X-PUBLISHED-TTL:PT1H
BEGIN:VTIMEZONE
TZID:Europe/Helsinki
BEGIN:DAYLIGHT
TZOFFSETFROM:+0200
TZOFFSETTO:+0300
TZNAME:EEST
DTSTART:20220327T010000
END:DAYLIGHT
BEGIN:STANDARD
TZOFFSETFROM:+0300
TZOFFSETTO:+0200
TZNAME:EET
DTSTART:20221030T010000
END:STANDARD
END:VTIMEZONE
BEGIN:VEVENT
DTSTART;TZID=Europe/Helsinki:20220907T173000
DTEND;TZID=Europe/Helsinki:20220907T210000
DTSTAMP:20260421T081846
CREATED:20220828T173453Z
LAST-MODIFIED:20220828T173453Z
UID:9111-1662571800-1662584400@intra.ivmglobal.net
SUMMARY:Artistry Module 1 - Lahti (Hollola)
DESCRIPTION:Pidämme ARTISTRY Module ykköskurssin eli kasvohoitokurssin LAHDEN seudulla.! Tässä tiedot kurssista ja kurssipaikasta: \n\nArtistry peruskurssi (MODULE 1)  keskiviikkona 7.9. 2022 klo 17.30  \nAIKA: ke 7.9. 2022 klo 17.30 – noin 20.30/21.00 \nPAIKKA: Hollolan Matkakeidas kokoustila\, Hopeakalliontie 2\, Hollola \nHINTA: 15 euroa \nMUKAAN OTETTAVAT TARVIKKEET: Artistry ihonhoitotuotteet (ne tuotteet\, mitkä omistat)\, hiuspanta\, pöydällä seisova peili\, pieni ja iso pyyhe\, kuppi vedelle\, kaksi kasvojenpuhdistussientä\, pumpulilappuja\, muistiinpanovälineet ja mukavaa evästä.\nJos et omista tuotteita\, on erittäin hyvä lainata apulinjaltasi.\nPaikalla on myös demo-tuotteet\, joita voi käyttää. \nKurssilla\n– käydään lyhyesti läpi ihonhoidon teoriaa / ihon rakennetta sekä sitä\, miksi ihonhoitotuotteita käytetään \n– opitaan\, miten kasvohoito tehdään ja harjoitellaan se kurssilaisten kesken\n– käydään läpi Artistry ihonhoitotuotteet\n– opitaan\, mille ihotyypille eri sarjoja käytetään\n– opitaan laajemmin ihonhoidon merkitys\n– saat kattavan materiaalinipun paikan päällä \nMatkakeitaalla on noutopöytä klo 17.00 saakka ja iltabuffee klo 17-20.00\, joten voit ruokailla ennen kurssia. \nPidämme kurssilla myös tauon\, jolloin kahvilan linjastolla on tarjolla kahvia/teetä\, leivonnaisia sekä muita virvokkeita. \nSITOVA ILMOITTAUTUMINEN Platinan kautta IVMGlobalille viimeistään 5.9.-22. \nKurssi maksetaan paikan päällä käteisellä\, tarvittaessa MobilePay käy. \nLämpimästi tervetuloa!\nAnne ja Janne Kekoni
URL:https://intra.ivmglobal.net/event/artistry-module-1-lahti-hollola/
LOCATION:Hollolan Matkakeidas\, Hopeakalliontie 2\, Hollola\, 15880\, Suomi
CATEGORIES:Artistry-koulutus
END:VEVENT
END:VCALENDAR