﻿BEGIN:VCALENDAR
VERSION:2.0
PRODID:-//IVM Global - ECPv6.5.2//NONSGML v1.0//EN
CALSCALE:GREGORIAN
METHOD:PUBLISH
X-ORIGINAL-URL:https://intra.ivmglobal.net
X-WR-CALDESC:Events for IVM Global
REFRESH-INTERVAL;VALUE=DURATION:PT1H
X-Robots-Tag:noindex
X-PUBLISHED-TTL:PT1H
BEGIN:VTIMEZONE
TZID:Europe/Helsinki
BEGIN:DAYLIGHT
TZOFFSETFROM:+0200
TZOFFSETTO:+0300
TZNAME:EEST
DTSTART:20230326T010000
END:DAYLIGHT
BEGIN:STANDARD
TZOFFSETFROM:+0300
TZOFFSETTO:+0200
TZNAME:EET
DTSTART:20231029T010000
END:STANDARD
END:VTIMEZONE
BEGIN:VEVENT
DTSTART;TZID=Europe/Helsinki:20230911T190000
DTEND;TZID=Europe/Helsinki:20230911T200000
DTSTAMP:20260422T040248
CREATED:20230901T052144Z
LAST-MODIFIED:20230901T205519Z
UID:10652-1694458800-1694462400@intra.ivmglobal.net
SUMMARY:Hämeenlinna OBM
DESCRIPTION:
URL:https://intra.ivmglobal.net/event/lahti-obm-14/
LOCATION:ABC Tiiriö\, Paroistetie 1\, Hämeenlinna\, Hämeenlinna\, 13600\, Suomi
CATEGORIES:OBM (+NDO),OBM Hämeenlinna
END:VEVENT
END:VCALENDAR