﻿BEGIN:VCALENDAR
VERSION:2.0
PRODID:-//IVM Global - ECPv6.5.2//NONSGML v1.0//EN
CALSCALE:GREGORIAN
METHOD:PUBLISH
X-ORIGINAL-URL:https://intra.ivmglobal.net
X-WR-CALDESC:Events for IVM Global
REFRESH-INTERVAL;VALUE=DURATION:PT1H
X-Robots-Tag:noindex
X-PUBLISHED-TTL:PT1H
BEGIN:VTIMEZONE
TZID:Europe/Helsinki
BEGIN:DAYLIGHT
TZOFFSETFROM:+0200
TZOFFSETTO:+0300
TZNAME:EEST
DTSTART:20230326T010000
END:DAYLIGHT
BEGIN:STANDARD
TZOFFSETFROM:+0300
TZOFFSETTO:+0200
TZNAME:EET
DTSTART:20231029T010000
END:STANDARD
END:VTIMEZONE
BEGIN:VEVENT
DTSTART;TZID=Europe/Helsinki:20230719T190000
DTEND;TZID=Europe/Helsinki:20230719T200000
DTSTAMP:20260422T064701
CREATED:20230502T135125Z
LAST-MODIFIED:20230502T135125Z
UID:10184-1689793200-1689796800@intra.ivmglobal.net
SUMMARY:Salo OBM
DESCRIPTION:
URL:https://intra.ivmglobal.net/event/salo-obm-21/
LOCATION:Salon VPK talo\, Asemakatu 3\, Salo\, Finland
CATEGORIES:OBM (+NDO),OBM Salo
END:VEVENT
BEGIN:VEVENT
DTSTART;TZID=Europe/Helsinki:20230719T190000
DTEND;TZID=Europe/Helsinki:20230719T210000
DTSTAMP:20260422T064701
CREATED:20230607T151542Z
LAST-MODIFIED:20230607T151542Z
UID:10326-1689793200-1689800400@intra.ivmglobal.net
SUMMARY:Oulu OBM+NDO - Safiiri Merja Fogde
DESCRIPTION:
URL:https://intra.ivmglobal.net/event/oulu-obmndo-safiiri-merja-fogde/
LOCATION:ABC Tupos\, Tuposkorva 1\, Liminka\, 91910\, Suomi
CATEGORIES:OBM (+NDO),OBM Oulu
END:VEVENT
END:VCALENDAR